Workbook

Sheet Sheet1
A1: Company Name | B1: 2010 | E1: 2011 | H1: 2012 | K1: 2013 | N1: 2014 | Q1: 2015 | T1: 2016 | W1: 2017 | Z1: 2018 | AC1: 2019
B2: RoCE | C2: CoC | D2: RoCE-CoC | E2: RoCE | F2: CoC | G2: RoCE-CoC | H2: RoCE | I2: CoC | J2: RoCE-CoC | K2: RoCE | L2: CoC | M2: RoCE-CoC | N2: RoCE | O2: CoC | P2: RoCE-CoC | Q2: RoCE | R2: CoC | S2: RoCE-CoC | T2: RoCE | U2: CoC | V2: RoCE-CoC | W2: RoCE | X2: CoC | Y2: RoCE-CoC | Z2: RoCE | AA2: CoC | AB2: RoCE-CoC | AC2: RoCE | AD2: CoC | AE2: RoCE-CoC
A3: UltraTech Cement Ltd. | B3: ='Data Sheet'!B5 -> 0.25546272 | C3: 0.12 | D3: =B3-C3 -> 0.13546272 | E3: ='Data Sheet'!C5 -> 0.12311589 | F3: 0.12 | G3: =E3-C3 -> 0.0031158883 | H3: ='Data Sheet'!D5 -> 0.18311515 | I3: 0.12 | J3: =H3-F3 -> 0.063115148 | K3: ='Data Sheet'!E5 -> 0.16029418 | L3: 0.12 | M3: =K3-I3 -> 0.040294183 | N3: ='Data Sheet'!F5 -> 0.14093987 | O3: 0.12 | P3: =N3-L3 -> 0.020939871 | Q3: ='Data Sheet'!G5 -> 0.14513336 | R3: 0.12 | S3: =Q3-O3 -> 0.025133356 | T3: ='Data Sheet'!H5 -> 0.13900064 | U3: 0.12 | V3: =T3-R3 -> 0.019000645 | W3: ='Data Sheet'!I5 -> 0.15228504 | X3: 0.12 | Y3: =W3-U3 -> 0.032285036 | Z3: ='Data Sheet'!J5 -> 0.084776067 | AA3: 0.12 | AB3: =Z3-X3 -> -0.035223933 | AC3: ='Data Sheet'!K5 -> 0.10076747 | AD3: 0.12 | AE3: =AC3-AA3 -> -0.019232527
A4: Shree Cement Ltd. | B4: ='Data Sheet'!B10 -> 0.31835491 | C4: 0.12 | D4: =B4-C4 -> 0.19835491 | E4: ='Data Sheet'!C10 -> 0.27766287 | F4: 0.12 | G4: =E4-C4 -> 0.15766287 | H4: ='Data Sheet'!D10 -> 0.32686811 | I4: 0.12 | J4: =H4-F4 -> 0.20686811 | K4: ='Data Sheet'!E10 -> 0.24551832 | L4: 0.12 | M4: =K4-I4 -> 0.12551832 | N4: ='Data Sheet'!F10 -> 0.23701573 | O4: 0.12 | P4: =N4-L4 -> 0.11701573 | Q4: ='Data Sheet'!G10 -> 0.20006459 | R4: 0.12 | S4: =Q4-O4 -> 0.080064589 | T4: ='Data Sheet'!H10 -> 0.20266598 | U4: 0.12 | V4: =T4-R4 -> 0.082665976 | W4: ='Data Sheet'!I10 -> 0.24491158 | X4: 0.12 | Y4: =W4-U4 -> 0.12491158 | Z4: ='Data Sheet'!J10 -> 0.15276423 | AA4: 0.12 | AB4: =Z4-X4 -> 0.032764228 | AC4: ='Data Sheet'!K10 -> 0.16674683 | AD4: 0.12 | AE4: =AC4-AA4 -> 0.046746833
A5: Ambuja Cements Ltd. | B5: ='Data Sheet'!B16 -> 0.25372124 | C5: 0.12 | D5: =B5-C5 -> 0.13372124 | E5: ='Data Sheet'!C16 -> 0.18834522 | F5: 0.12 | G5: =E5-C5 -> 0.068345218 | H5: ='Data Sheet'!D16 -> 0.21000339 | I5: 0.12 | J5: =H5-F5 -> 0.090003387 | K5: ='Data Sheet'!E16 -> 0.13322818 | L5: 0.12 | M5: =K5-I5 -> 0.013228181 | N5: ='Data Sheet'!F16 -> 0.16577593 | O5: 0.12 | P5: =N5-L5 -> 0.04577593 | Q5: ='Data Sheet'!G16 -> 0.15107704 | R5: 0.12 | S5: =Q5-O5 -> 0.031077042 | T5: ='Data Sheet'!H16 -> 0.14156171 | U5: 0.12 | V5: =T5-R5 -> 0.021561713 | W5: ='Data Sheet'!I16 -> 0.16505605 | X5: 0.12 | Y5: =W5-U5 -> 0.045056049 | Z5: ='Data Sheet'!J16 -> 0.07599286 | AA5: 0.12 | AB5: =Z5-X5 -> -0.04400714 | AC5: ='Data Sheet'!K16 -> 0.1964841 | AD5: 0.12 | AE5: =AC5-AA5 -> 0.0764841
A6: ACC Ltd. | B6: ='Data Sheet'!B21 -> 0.28302719 | C6: 0.12 | D6: =B6-C6 -> 0.16302719 | E6: ='Data Sheet'!C21 -> 0.21041389 | F6: 0.12 | G6: =E6-C6 -> 0.090413885 | H6: ='Data Sheet'!D21 -> 0.20928998 | I6: 0.12 | J6: =H6-F6 -> 0.08928998 | K6: ='Data Sheet'!E21 -> 0.13544852 | L6: 0.12 | M6: =K6-I6 -> 0.015448522 | N6: ='Data Sheet'!F21 -> 0.16451691 | O6: 0.12 | P6: =N6-L6 -> 0.044516914 | Q6: ='Data Sheet'!G21 -> 0.17301983 | R6: 0.12 | S6: =Q6-O6 -> 0.053019831 | T6: ='Data Sheet'!H21 -> 0.15772155 | U6: 0.12 | V6: =T6-R6 -> 0.037721548 | W6: ='Data Sheet'!I21 -> 0.16609662 | X6: 0.12 | Y6: =W6-U6 -> 0.046096622 | Z6: ='Data Sheet'!J21 -> 0.10615268 | AA6: 0.12 | AB6: =Z6-X6 -> -0.013847322 | AC6: ='Data Sheet'!K21 -> 0.19533957 | AD6: 0.12 | AE6: =AC6-AA6 -> 0.07533957
A7: The Ramco Cement | B7: ='Data Sheet'!B26 -> 0.16509091 | C7: 0.12 | D7: =B7-C7 -> 0.045090909 | E7: ='Data Sheet'!C26 -> 0.13676536 | F7: 0.12 | G7: =E7-C7 -> 0.016765356 | H7: ='Data Sheet'!D26 -> 0.18147448 | I7: 0.12 | J7: =H7-F7 -> 0.06147448 | K7: ='Data Sheet'!E26 -> 0.13914252 | L7: 0.12 | M7: =K7-I7 -> 0.019142517 | N7: ='Data Sheet'!F26 -> 0.094803502 | O7: 0.12 | P7: =N7-L7 -> -0.025196498 | Q7: ='Data Sheet'!G26 -> 0.1738806 | R7: 0.12 | S7: =Q7-O7 -> 0.053880597 | T7: ='Data Sheet'!H26 -> 0.20648464 | U7: 0.12 | V7: =T7-R7 -> 0.086484642 | W7: ='Data Sheet'!I26 -> 0.21345309 | X7: 0.12 | Y7: =W7-U7 -> 0.093453086 | Z7: ='Data Sheet'!J26 -> 0.21474971 | AA7: 0.12 | AB7: =Z7-X7 -> 0.094749713 | AC7: ='Data Sheet'!K26 -> 0.12844185 | AD7: 0.12 | AE7: =AC7-AA7 -> 0.0084418529
A8: Dalmia Bharat Ltd. | B8: ='Data Sheet'!B31 -> NA | C8: 0.12 | D8: NA | E8: ='Data Sheet'!C31 -> NA | F8: 0.12 | G8: NA | H8: ='Data Sheet'!D31 -> NA | I8: 0.12 | J8: NA | K8: ='Data Sheet'!E31 -> NA | L8: 0.12 | M8: NA | N8: ='Data Sheet'!F31 -> NA | O8: 0.12 | P8: NA | Q8: ='Data Sheet'!G31 -> NA | R8: 0.12 | S8: NA | T8: ='Data Sheet'!H31 -> NA | U8: 0.12 | V8: NA | W8: ='Data Sheet'!I31 -> 0.10620221 | X8: 0.12 | Y8: =W8-U8 -> -0.013797791 | Z8: ='Data Sheet'!J31 -> 0.09131745 | AA8: 0.12 | AB8: =Z8-X8 -> -0.02868255 | AC8: ='Data Sheet'!K31 -> 0.12664364 | AD8: 0.12 | AE8: =AC8-AA8 -> 0.0066436406
A9: JK Cements Ltd. | B9: ='Data Sheet'!B36 -> 0.10597938 | C9: 0.12 | D9: =B9-C9 -> -0.014020619 | E9: ='Data Sheet'!C36 -> 0.093957259 | F9: 0.12 | G9: =E9-C9 -> -0.026042741 | H9: ='Data Sheet'!D36 -> 0.18971178 | I9: 0.12 | J9: =H9-F9 -> 0.069711784 | K9: ='Data Sheet'!E36 -> 0.12447051 | L9: 0.12 | M9: =K9-I9 -> 0.0044705116 | N9: ='Data Sheet'!F36 -> 0.080370943 | O9: 0.12 | P9: =N9-L9 -> -0.039629057 | Q9: ='Data Sheet'!G36 -> 0.052827074 | R9: 0.12 | S9: =Q9-O9 -> -0.067172926 | T9: ='Data Sheet'!H36 -> 0.11812627 | U9: 0.12 | V9: =T9-R9 -> -0.0018737271 | W9: ='Data Sheet'!I36 -> 0.15354018 | X9: 0.12 | Y9: =W9-U9 -> 0.033540175 | Z9: ='Data Sheet'!J36 -> 0.17961758 | AA9: 0.12 | AB9: =Z9-X9 -> 0.059617575 | AC9: ='Data Sheet'!K36 -> 0.12350035 | AD9: 0.12 | AE9: =AC9-AA9 -> 0.0035003529
A10: Birla Corporation Ltd. | B10: ='Data Sheet'!B41 -> 0.20503597 | C10: 0.12 | D10: =B10-C10 -> 0.085035971 | E10: ='Data Sheet'!C41 -> 0.082861897 | F10: 0.12 | G10: =E10-C10 -> -0.037138103 | H10: ='Data Sheet'!D41 -> 0.072463768 | I10: 0.12 | J10: =H10-F10 -> -0.047536232 | K10: ='Data Sheet'!E41 -> 0.053275347 | L10: 0.12 | M10: =K10-I10 -> -0.066724653 | N10: ='Data Sheet'!F41 -> 0.091348601 | O10: 0.12 | P10: =N10-L10 -> -0.028651399 | Q10: ='Data Sheet'!G41 -> 0.071773988 | R10: 0.12 | S10: =Q10-O10 -> -0.048226012 | T10: ='Data Sheet'!H41 -> 0.059201141 | U10: 0.12 | V10: =T10-R10 -> -0.060798859 | W10: ='Data Sheet'!I41 -> 0.089775892 | X10: 0.12 | Y10: =W10-U10 -> -0.030224108 | Z10: ='Data Sheet'!J41 -> 0.095719382 | AA10: 0.12 | AB10: =Z10-X10 -> -0.024280618 | AC10: ='Data Sheet'!K41 -> 0.12453184 | AD10: 0.12 | AE10: =AC10-AA10 -> 0.0045318352
A11: Heidelberg Cements | B11: ='Data Sheet'!B46 -> 0.071428571 | C11: 0.12 | D11: =B11-C11 -> -0.048571429 | E11: ='Data Sheet'!C46 -> 0.032642812 | F11: 0.12 | G11: =E11-C11 -> -0.087357188 | H11: ='Data Sheet'!D46 -> 0.026624068 | I11: 0.12 | J11: =H11-F11 -> -0.093375932 | K11: ='Data Sheet'!E46 -> 0.054313099 | L11: 0.12 | M11: =K11-I11 -> -0.065686901 | N11: ='Data Sheet'!F46 -> NA | O11: 0.12 | P11: NA | Q11: ='Data Sheet'!G46 -> 0.1096269 | R11: 0.12 | S11: =Q11-O11 -> -0.0103731 | T11: ='Data Sheet'!H46 -> 0.13288521 | U11: 0.12 | V11: =T11-R11 -> 0.012885212 | W11: ='Data Sheet'!I46 -> 0.21590909 | X11: 0.12 | Y11: =W11-U11 -> 0.095909091 | Z11: ='Data Sheet'!J46 -> 0.22629052 | AA11: 0.12 | AB11: =Z11-X11 -> 0.10629052 | AC11: ='Data Sheet'!K46 -> 0.23268206 | AD11: 0.12 | AE11: =AC11-AA11 -> 0.11268206
A12: India Cements Ltd. | B12: ='Data Sheet'!B51 -> 0.12385755 | C12: 0.12 | D12: =B12-C12 -> 0.0038575481 | E12: ='Data Sheet'!C51 -> 0.065556712 | F12: 0.12 | G12: =E12-C12 -> -0.054443288 | H12: ='Data Sheet'!D51 -> 0.1350925 | I12: 0.12 | J12: =H12-F12 -> 0.0150925 | K12: ='Data Sheet'!E51 -> 0.10017791 | L12: 0.12 | M12: =K12-I12 -> -0.019822088 | N12: ='Data Sheet'!F51 -> 0.071976566 | O12: 0.12 | P12: =N12-L12 -> -0.048023434 | Q12: ='Data Sheet'!G51 -> 0.093722755 | R12: 0.12 | S12: =Q12-O12 -> -0.026277245 | T12: ='Data Sheet'!H51 -> 0.11550443 | U12: 0.12 | V12: =T12-R12 -> -0.0044955667 | W12: ='Data Sheet'!I51 -> 0.09244713 | X12: 0.12 | Y12: =W12-U12 -> -0.02755287 | Z12: ='Data Sheet'!J51 -> 0.065674463 | AA12: 0.12 | AB12: =Z12-X12 -> -0.054325537 | AC12: ='Data Sheet'!K51 -> 0.032191308 | AD12: 0.12 | AE12: =AC12-AA12 -> -0.087808692
A13: Star Cement | B13: ='Data Sheet'!B56 -> 0.31306306 | C13: 0.12 | D13: =B13-C13 -> 0.19306306 | E13: ='Data Sheet'!C56 -> 0.0703125 | F13: 0.12 | G13: =E13-C13 -> -0.0496875 | H13: ='Data Sheet'!D56 -> 0.18923077 | I13: 0.12 | J13: =H13-F13 -> 0.069230769 | K13: ='Data Sheet'!E56 -> -0.043812907 | L13: 0.12 | M13: =K13-I13 -> -0.16381291 | N13: ='Data Sheet'!F56 -> 0.128943 | O13: 0.12 | P13: =N13-L13 -> 0.0089429994 | Q13: ='Data Sheet'!G56 -> 0.14547474 | R13: 0.12 | S13: =Q13-O13 -> 0.025474736 | T13: ='Data Sheet'!H56 -> 0.048621554 | U13: 0.12 | V13: =T13-R13 -> -0.071378446 | W13: ='Data Sheet'!I56 -> 0.1540832 | X13: 0.12 | Y13: =W13-U13 -> 0.034083205 | Z13: ='Data Sheet'!J56 -> 0.2206499 | AA13: 0.12 | AB13: =Z13-X13 -> 0.1006499 | AC13: ='Data Sheet'!K56 -> 0.34204672 | AD13: 0.12 | AE13: =AC13-AA13 -> 0.22204672
A14: JK Lakshmi Cements | B14: ='Data Sheet'!B61 -> 0.18373649 | C14: 0.12 | D14: =B14-C14 -> 0.06373649 | E14: ='Data Sheet'!C61 -> 0.092258749 | F14: 0.12 | G14: =E14-C14 -> -0.027741251 | H14: ='Data Sheet'!D61 -> 0.18086124 | I14: 0.12 | J14: =H14-F14 -> 0.060861244 | K14: ='Data Sheet'!E61 -> 0.12788906 | L14: 0.12 | M14: =K14-I14 -> 0.0078890601 | N14: ='Data Sheet'!F61 -> 0.11859296 | O14: 0.12 | P14: =N14-L14 -> -0.0014070352 | Q14: ='Data Sheet'!G61 -> 0.1003955 | R14: 0.12 | S14: =Q14-O14 -> -0.019604503 | T14: ='Data Sheet'!H61 -> 0.074622694 | U14: 0.12 | V14: =T14-R14 -> -0.045377306 | W14: ='Data Sheet'!I61 -> 0.096868885 | X14: 0.12 | Y14: =W14-U14 -> -0.023131115 | Z14: ='Data Sheet'!J61 -> 0.1235589 | AA14: 0.12 | AB14: =Z14-X14 -> 0.0035588972 | AC14: ='Data Sheet'!K61 -> 0.21104972 | AD14: 0.12 | AE14: =AC14-AA14 -> 0.091049724
A15: Prism Johnson | B15: ='Data Sheet'!B66 -> 0.17056396 | C15: 0.12 | D15: =B15-C15 -> 0.050563961 | E15: ='Data Sheet'!C66 -> 0.11021814 | F15: 0.12 | G15: =E15-C15 -> -0.0097818599 | H15: ='Data Sheet'!D66 -> 0.095187166 | I15: 0.12 | J15: =H15-F15 -> -0.024812834 | K15: ='Data Sheet'!E66 -> 0.082044809 | L15: 0.12 | M15: =K15-I15 -> -0.037955191 | N15: ='Data Sheet'!F66 -> 0.018026565 | O15: 0.12 | P15: =N15-L15 -> -0.10197343 | Q15: ='Data Sheet'!G66 -> 0.060486322 | R15: 0.12 | S15: =Q15-O15 -> -0.059513678 | T15: ='Data Sheet'!H66 -> 0.14392523 | U15: 0.12 | V15: =T15-R15 -> 0.023925234 | W15: ='Data Sheet'!I66 -> 0.22722689 | X15: 0.12 | Y15: =W15-U15 -> 0.10722689 | Z15: ='Data Sheet'!J66 -> 0.19195553 | AA15: 0.12 | AB15: =Z15-X15 -> 0.071955526 | AC15: ='Data Sheet'!K66 -> 0.21484888 | AD15: 0.12 | AE15: =AC15-AA15 -> 0.094848883
A16: Orient Cement | B16: ='Data Sheet'!B71 -> NA | C16: 0.12 | D16: NA | E16: ='Data Sheet'!C71 -> NA | F16: 0.12 | G16: NA | H16: ='Data Sheet'!D71 -> NA | I16: 0.12 | J16: NA | K16: ='Data Sheet'!E71 -> 0.29060773 | L16: 0.12 | M16: =K16-I16 -> 0.17060773 | N16: ='Data Sheet'!F71 -> 0.16594641 | O16: 0.12 | P16: =N16-L16 -> 0.045946413 | Q16: ='Data Sheet'!G71 -> 0.07496396 | R16: 0.12 | S16: =Q16-O16 -> -0.04503604 | T16: ='Data Sheet'!H71 -> 0.11526882 | U16: 0.12 | V16: =T16-R16 -> -0.0047311828 | W16: ='Data Sheet'!I71 -> 0.11149376 | X16: 0.12 | Y16: =W16-U16 -> -0.0085062419 | Z16: ='Data Sheet'!J71 -> 0.11943493 | AA16: 0.12 | AB16: =Z16-X16 -> -0.00056506849 | AC16: ='Data Sheet'!K71 -> 0.11993171 | AD16: 0.12 | AE16: =AC16-AA16 -> -6.8288519e-05
A17: Sagar Cements Ltd. | B17: ='Data Sheet'!B76 -> 0.28378378 | C17: 0.12 | D17: =B17-C17 -> 0.16378378 | E17: ='Data Sheet'!C76 -> 0.1511879 | F17: 0.12 | G17: =E17-C17 -> 0.031187905 | H17: ='Data Sheet'!D76 -> 0.17558887 | I17: 0.12 | J17: =H17-F17 -> 0.055588865 | K17: ='Data Sheet'!E76 -> 0.069387755 | L17: 0.12 | M17: =K17-I17 -> -0.050612245 | N17: ='Data Sheet'!F76 -> 0.10561798 | O17: 0.12 | P17: =N17-L17 -> -0.014382022 | Q17: ='Data Sheet'!G76 -> 0.052219321 | R17: 0.12 | S17: =Q17-O17 -> -0.067780679 | T17: ='Data Sheet'!H76 -> 0.13123093 | U17: 0.12 | V17: =T17-R17 -> 0.011230926 | W17: ='Data Sheet'!I76 -> 0.0808 | X17: 0.12 | Y17: =W17-U17 -> -0.0392 | Z17: ='Data Sheet'!J76 -> 0.11933174 | AA17: 0.12 | AB17: =Z17-X17 -> -0.00066825776 | AC17: ='Data Sheet'!K76 -> 0.098372781 | AD17: 0.12 | AE17: =AC17-AA17 -> -0.021627219
A18: Shree Digvijay Cement Company Ltd. | B18: ='Data Sheet'!B81 -> -0.017241379 | C18: 0.12 | D18: =B18-C18 -> -0.13724138 | E18: ='Data Sheet'!C81 -> 0.21327014 | F18: 0.12 | G18: =E18-C18 -> 0.093270142 | H18: ='Data Sheet'!D81 -> 0.082677165 | I18: 0.12 | J18: =H18-F18 -> -0.037322835 | K18: ='Data Sheet'!E81 -> -0.086956522 | L18: 0.12 | M18: =K18-I18 -> -0.20695652 | N18: ='Data Sheet'!F81 -> 0.089605735 | O18: 0.12 | P18: =N18-L18 -> -0.030394265 | Q18: ='Data Sheet'!G81 -> NA | R18: 0.12 | S18: NA | T18: ='Data Sheet'!H81 -> 0.066878981 | U18: 0.12 | V18: =T18-R18 -> -0.053121019 | W18: ='Data Sheet'!I81 -> 0.10333333 | X18: 0.12 | Y18: =W18-U18 -> -0.016666667 | Z18: ='Data Sheet'!J81 -> 0.41975309 | AA18: 0.12 | AB18: =Z18-X18 -> 0.29975309 | AC18: ='Data Sheet'!K81 -> -0.0077220077 | AD18: 0.12 | AE18: =AC18-AA18 -> -0.12772201
A19: K C P Ltd. | B19: ='Data Sheet'!B86 -> 0.2144 | C19: 0.12 | D19: =B19-C19 -> 0.0944 | E19: ='Data Sheet'!C86 -> 0.097826087 | F19: 0.12 | G19: =E19-C19 -> -0.022173913 | H19: NA | I19: 0.12 | J19: NA | K19: ='Data Sheet'!E86 -> 0.28760529 | L19: 0.12 | M19: =K19-I19 -> 0.16760529 | N19: ='Data Sheet'!F86 -> 0.010288066 | O19: 0.12 | P19: =N19-L19 -> -0.10971193 | Q19: ='Data Sheet'!G86 -> 0.19735504 | R19: 0.12 | S19: =Q19-O19 -> 0.077355036 | T19: ='Data Sheet'!H86 -> 0.2202925 | U19: 0.12 | V19: =T19-R19 -> 0.1002925 | W19: ='Data Sheet'!I86 -> 0.10654362 | X19: 0.12 | Y19: =W19-U19 -> -0.013456376 | Z19: ='Data Sheet'!J86 -> 0.16486068 | AA19: 0.12 | AB19: =Z19-X19 -> 0.044860681 | AC19: ='Data Sheet'!K86 -> 0.12651031 | AD19: 0.12 | AE19: =AC19-AA19 -> 0.0065103056
A20: Sanghi Industries Ltd. | B20: ='Data Sheet'!B91 -> 0.11318619 | C20: 0.12 | D20: =B20-C20 -> -0.0068138087 | E20: ='Data Sheet'!C91 -> 0.10340633 | F20: 0.12 | G20: =E20-C20 -> -0.016593674 | H20: ='Data Sheet'!D91 -> 0.06374269 | I20: 0.12 | J20: =H20-F20 -> -0.05625731 | K20: ='Data Sheet'!E91 -> 0.091137649 | L20: 0.12 | M20: =K20-I20 -> -0.028862351 | N20: ='Data Sheet'!F91 -> 0.13627515 | O20: 0.12 | P20: =N20-L20 -> 0.016275146 | Q20: ='Data Sheet'!G91 -> 0.1362379 | R20: 0.12 | S20: =Q20-O20 -> 0.016237898 | T20: ='Data Sheet'!H91 -> 0.085852479 | U20: 0.12 | V20: =T20-R20 -> -0.034147521 | W20: ='Data Sheet'!I91 -> 0.044366608 | X20: 0.12 | Y20: =W20-U20 -> -0.075633392 | Z20: ='Data Sheet'!J91 -> 0.094952951 | AA20: 0.12 | AB20: =Z20-X20 -> -0.025047049 | AC20: ='Data Sheet'!K91 -> 0.039788875 | AD20: 0.12 | AE20: =AC20-AA20 -> -0.080211125
A21: Mangalam Cement Ltd | B21: ='Data Sheet'!B96 -> 0.32241814 | C21: 0.12 | D21: =B21-C21 -> 0.20241814 | E21: ='Data Sheet'!C96 -> -0.0073349633 | F21: 0.12 | G21: =E21-C21 -> -0.12733496 | H21: ='Data Sheet'!D96 -> 0.20092379 | I21: 0.12 | J21: =H21-F21 -> 0.080923788 | K21: ='Data Sheet'!E96 -> 0.15056818 | L21: 0.12 | M21: =K21-I21 -> 0.030568182 | N21: ='Data Sheet'!F96 -> 0.072 | O21: 0.12 | P21: =N21-L21 -> -0.048 | Q21: ='Data Sheet'!G96 -> 0.053333333 | R21: 0.12 | S21: =Q21-O21 -> -0.066666667 | T21: ='Data Sheet'!H96 -> 0.083148559 | U21: 0.12 | V21: =T21-R21 -> -0.036851441 | W21: ='Data Sheet'!I96 -> 0.18171683 | X21: 0.12 | Y21: =W21-U21 -> 0.061716834 | Z21: ='Data Sheet'!J96 -> 0.096956032 | AA21: 0.12 | AB21: =Z21-X21 -> -0.023043968 | AC21: ='Data Sheet'!K96 -> -0.0048923679 | AD21: 0.12 | AE21: =AC21-AA21 -> -0.12489237
A22: Deccan Cements Ltd. | B22: ='Data Sheet'!B101 -> 0.16007905 | C22: 0.12 | D22: =B22-C22 -> 0.040079051 | E22: ='Data Sheet'!C101 -> 0.12603306 | F22: 0.12 | G22: =E22-C22 -> 0.0060330579 | H22: ='Data Sheet'!D101 -> 0.19246862 | I22: 0.12 | J22: =H22-F22 -> 0.072468619 | K22: ='Data Sheet'!E101 -> 0.09287257 | L22: 0.12 | M22: =K22-I22 -> -0.02712743 | N22: ='Data Sheet'!F101 -> 0.14072495 | O22: 0.12 | P22: =N22-L22 -> 0.020724947 | Q22: ='Data Sheet'!G101 -> 0.15366972 | R22: 0.12 | S22: =Q22-O22 -> 0.033669725 | T22: ='Data Sheet'!H101 -> 0.38356164 | U22: 0.12 | V22: =T22-R22 -> 0.26356164 | W22: ='Data Sheet'!I101 -> 0.15174129 | X22: 0.12 | Y22: =W22-U22 -> 0.031741294 | Z22: ='Data Sheet'!J101 -> 0.17839196 | AA22: 0.12 | AB22: =Z22-X22 -> 0.05839196 | AC22: ='Data Sheet'!K101 -> 0.12608696 | AD22: 0.12 | AE22: =AC22-AA22 -> 0.0060869565
A23: Anjani Portland Cement Ltd. | B23: ='Data Sheet'!B106 -> 0.014336918 | C23: 0.12 | D23: =B23-C23 -> -0.10566308 | E23: ='Data Sheet'!C106 -> 0.048632219 | F23: 0.12 | G23: =E23-F23 -> -0.071367781 | H23: ='Data Sheet'!D106 -> 0.17222222 | I23: 0.12 | J23: =H23-I23 -> 0.052222222 | K23: ='Data Sheet'!E106 -> 0.15339233 | L23: 0.12 | M23: =K23-L23 -> 0.03339233 | N23: ='Data Sheet'!F106 -> 0.30452675 | O23: 0.12 | P23: =N23-O23 -> 0.18452675 | Q23: ='Data Sheet'!G106 -> 0.033834586 | R23: 0.12 | S23: =Q23-R23 -> -0.086165414 | T23: ='Data Sheet'!H106 -> 0.59223301 | U23: 0.12 | V23: =T23-U23 -> 0.47223301 | W23: ='Data Sheet'!I106 -> 0.19188192 | X23: 0.12 | Y23: =W23-X23 -> 0.071881919 | Z23: ='Data Sheet'!J106 -> 0.25384615 | AA23: 0.12 | AB23: =Z23-AA23 -> 0.13384615 | AC23: ='Data Sheet'!K106 -> 0.21576763 | AD23: 0.12 | AE23: =AC23-AD23 -> 0.095767635
A24: NCL Industries Ltd. | B24: ='Data Sheet'!B111 -> 0.14885496 | C24: 0.12 | D24: =B24-C24 -> 0.028854962 | E24: ='Data Sheet'!C111 -> 0.092511013 | F24: 0.12 | G24: =E24-F24 -> -0.027488987 | H24: ='Data Sheet'!D111 -> 0.19463087 | I24: 0.12 | J24: =H24-I24 -> 0.074630872 | K24: ='Data Sheet'!E111 -> 0.13895782 | L24: 0.12 | M24: =K24-L24 -> 0.018957816 | N24: ='Data Sheet'!F111 -> -0.0056179775 | O24: 0.12 | P24: =N24-O24 -> -0.12561798 | Q24: ='Data Sheet'!G111 -> 0.17073171 | R24: 0.12 | S24: =Q24-R24 -> 0.050731707 | T24: ='Data Sheet'!H111 -> 0.32581454 | U24: 0.12 | V24: =T24-U24 -> 0.20581454 | W24: ='Data Sheet'!I111 -> 0.031358885 | X24: 0.12 | Y24: =W24-X24 -> -0.088641115 | Z24: ='Data Sheet'!J111 -> 0.21109608 | AA24: 0.12 | AB24: =Z24-AA24 -> 0.091096076 | AC24: ='Data Sheet'!K111 -> 0.08502994 | AD24: 0.12 | AE24: =AC24-AD24 -> -0.03497006
A25: Gujarat Sidhee Cement Ltd. | B25: ='Data Sheet'!B116 -> 0.64393939 | C25: 0.12 | D25: =B25-C25 -> 0.52393939 | E25: ='Data Sheet'!C116 -> 0.23148148 | F25: 0.12 | G25: =E25-F25 -> 0.11148148 | H25: ='Data Sheet'!D116 -> 0.28947368 | I25: 0.12 | J25: =H25-I25 -> 0.16947368 | K25: ='Data Sheet'!E116 -> 0.33793103 | L25: 0.12 | M25: =K25-L25 -> 0.21793103 | N25: ='Data Sheet'!F116 -> 0.05625 | O25: 0.12 | P25: =N25-O25 -> -0.06375 | Q25: ='Data Sheet'!G116 -> 0.16097561 | R25: 0.12 | S25: =Q25-R25 -> 0.04097561 | T25: ='Data Sheet'!H116 -> 0.0045045045 | U25: 0.12 | V25: =T25-U25 -> -0.1154955 | W25: ='Data Sheet'!I116 -> 0.050377834 | X25: 0.12 | Y25: =W25-X25 -> -0.069622166 | Z25: ='Data Sheet'!J116 -> 0.081264108 | AA25: 0.12 | AB25: =Z25-AA25 -> -0.038735892 | AC25: ='Data Sheet'!K116 -> -0.0047732697 | AD25: 0.12 | AE25: =AC25-AD25 -> -0.12477327
A26: Saurashtra Cement Ltd. | B26: ='Data Sheet'!B121 -> 0.43934426 | C26: 0.12 | D26: =B26-C26 -> 0.31934426 | E26: ='Data Sheet'!C121 -> 0.21052632 | F26: 0.12 | G26: =E26-F26 -> 0.090526316 | H26: ='Data Sheet'!D121 -> 0.29032258 | I26: 0.12 | J26: =H26-I26 -> 0.17032258 | K26: ='Data Sheet'!E121 -> 0.39076923 | L26: 0.12 | M26: =K26-L26 -> 0.27076923 | N26: ='Data Sheet'!F121 -> 0.28819444 | O26: 0.12 | P26: =N26-O26 -> 0.16819444 | Q26: ='Data Sheet'!G121 -> 0.31451613 | R26: 0.12 | S26: =Q26-R26 -> 0.19451613 | T26: ='Data Sheet'!H121 -> 0.25352113 | U26: 0.12 | V26: =T26-U26 -> 0.13352113 | W26: ='Data Sheet'!I121 -> 0.090185676 | X26: 0.12 | Y26: =W26-X26 -> -0.029814324 | Z26: ='Data Sheet'!J121 -> 0.11342593 | AA26: 0.12 | AB26: =Z26-AA26 -> -0.0065740741 | AC26: ='Data Sheet'!K121 -> 0.034090909 | AD26: 0.12 | AE26: =AC26-AD26 -> -0.085909091
A27: Andhra Cements Ltd. | B27: ='Data Sheet'!B126 -> 0.12769486 | C27: 0.12 | D27: =B27-C27 -> 0.007694859 | E27: ='Data Sheet'!C126 -> 0.0511883 | F27: 0.12 | G27: =E27-F27 -> -0.0688117 | H27: ='Data Sheet'!D126 -> -0.034759358 | I27: 0.12 | J27: =H27-I27 -> -0.15475936 | K27: ='Data Sheet'!E126 -> -0.11419424 | L27: 0.12 | M27: =K27-L27 -> -0.23419424 | N27: ='Data Sheet'!F126 -> 0.062372188 | O27: 0.12 | P27: =N27-O27 -> -0.057627812 | Q27: ='Data Sheet'!G126 -> 0.14995035 | R27: 0.12 | S27: =Q27-R27 -> 0.029950348 | T27: ='Data Sheet'!H126 -> 0.045647558 | U27: 0.12 | V27: =T27-U27 -> -0.074352442 | W27: ='Data Sheet'!I126 -> 0.06387921 | X27: 0.12 | Y27: =W27-X27 -> -0.05612079 | Z27: ='Data Sheet'!J126 -> 0.11625 | AA27: 0.12 | AB27: =Z27-AA27 -> -0.00375 | AC27: ='Data Sheet'!K126 -> 0.034214619 | AD27: 0.12 | AE27: =AC27-AD27 -> -0.085785381
A28: Shiva Cement Ltd. | B28: ='Data Sheet'!B131 -> 0.098901099 | C28: 0.12 | D28: =B28-C28 -> -0.021098901 | E28: ='Data Sheet'!C131 -> 0.063829787 | F28: 0.12 | G28: =E28-F28 -> -0.056170213 | H28: ='Data Sheet'!D131 -> 0.076923077 | I28: 0.12 | J28: =H28-I28 -> -0.043076923 | K28: ='Data Sheet'!E131 -> 0.052631579 | L28: 0.12 | M28: =K28-L28 -> -0.067368421 | N28: ='Data Sheet'!F131 -> 0.048387097 | O28: 0.12 | P28: =N28-O28 -> -0.071612903 | Q28: ='Data Sheet'!G131 -> 0.0625 | R28: 0.12 | S28: =Q28-R28 -> -0.0575 | T28: ='Data Sheet'!H131 -> 0.095238095 | U28: 0.12 | V28: =T28-U28 -> -0.024761905 | W28: ='Data Sheet'!I131 -> 0.22151899 | X28: 0.12 | Y28: =W28-X28 -> 0.10151899 | Z28: ='Data Sheet'!J131 -> -0.32596685 | AA28: 0.12 | AB28: =Z28-AA28 -> -0.44596685 | AC28: ='Data Sheet'!K131 -> -0.029761905 | AD28: 0.12 | AE28: =AC28-AD28 -> -0.1497619
A29: Kakatiya Cement Sugar & Industries Ltd | B29: ='Data Sheet'!B136 -> 0.18493151 | C29: 0.12 | D29: =B29-C29 -> 0.064931507 | E29: ='Data Sheet'!C136 -> -0.02173913 | F29: 0.12 | G29: =E29-F29 -> -0.14173913 | H29: ='Data Sheet'!D136 -> 0 | I29: 0.12 | J29: =H29-I29 -> -0.12 | K29: ='Data Sheet'!E136 -> 0.012048193 | L29: 0.12 | M29: =K29-L29 -> -0.10795181 | N29: ='Data Sheet'!F136 -> 0 | O29: 0.12 | P29: =N29-O29 -> -0.12 | Q29: ='Data Sheet'!G136 -> -0.059907834 | R29: 0.12 | S29: =Q29-R29 -> -0.17990783 | T29: ='Data Sheet'!H136 -> 0.18777293 | U29: 0.12 | V29: =T29-U29 -> 0.067772926 | W29: ='Data Sheet'!I136 -> 0.11284047 | X29: 0.12 | Y29: =W29-X29 -> -0.0071595331 | Z29: ='Data Sheet'!J136 -> 0.052447552 | AA29: 0.12 | AB29: =Z29-AA29 -> -0.067552448 | AC29: ='Data Sheet'!K136 -> -0.086092715 | AD29: 0.12 | AE29: =AC29-AD29 -> -0.20609272
A30: Shri Keshav Cements & Infra Ltd. | B30: ='Data Sheet'!B141 -> 0.086043829 | C30: 0.12 | D30: =B30-C30 -> -0.033956171 | E30: ='Data Sheet'!C141 -> -0.035187915 | F30: 0.12 | G30: =E30-F30 -> -0.15518791 | H30: ='Data Sheet'!D141 -> 0.10553506 | I30: 0.12 | J30: =H30-I30 -> -0.014464945 | K30: ='Data Sheet'!E141 -> 0.084083543 | L30: 0.12 | M30: =K30-L30 -> -0.035916457 | N30: ='Data Sheet'!F141 -> 0.14151118 | O30: 0.12 | P30: =N30-O30 -> 0.021511177 | Q30: ='Data Sheet'!G141 -> 0.15392235 | R30: 0.12 | S30: =Q30-R30 -> 0.033922345 | T30: ='Data Sheet'!H141 -> 0.30622618 | U30: 0.12 | V30: =T30-U30 -> 0.18622618 | W30: ='Data Sheet'!I141 -> 0.064662372 | X30: 0.12 | Y30: =W30-X30 -> -0.055337628 | Z30: ='Data Sheet'!J141 -> -0.056740684 | AA30: 0.12 | AB30: =Z30-AA30 -> -0.17674068 | AC30: ='Data Sheet'!K141 -> 0.045000543 | AD30: 0.12 | AE30: =AC30-AD30 -> -0.074999457
A31: Barak Valley Cements Ltd. | B31: ='Data Sheet'!B146 -> 0.090425532 | C31: 0.12 | D31: =B31-C31 -> -0.029574468 | E31: ='Data Sheet'!C146 -> -0.0048780488 | F31: 0.12 | G31: =E31-F31 -> -0.12487805 | H31: ='Data Sheet'!D146 -> 0.043902439 | I31: 0.12 | J31: =H31-I31 -> -0.076097561 | K31: ='Data Sheet'!E146 -> 0.01 | L31: 0.12 | M31: =K31-L31 -> -0.11 | N31: ='Data Sheet'!F146 -> 0.10526316 | O31: 0.12 | P31: =N31-O31 -> -0.014736842 | Q31: ='Data Sheet'!G146 -> 0.19653179 | R31: 0.12 | S31: =Q31-R31 -> 0.076531792 | T31: ='Data Sheet'!H146 -> 0.1 | U31: 0.12 | V31: =T31-U31 -> -0.02 | W31: ='Data Sheet'!I146 -> 0.12264151 | X31: 0.12 | Y31: =W31-X31 -> 0.0026415094 | Z31: ='Data Sheet'!J146 -> 0.060747664 | AA31: 0.12 | AB31: =Z31-AA31 -> -0.059252336 | AC31: ='Data Sheet'!K146 -> 0.099056604 | AD31: 0.12 | AE31: =AC31-AD31 -> -0.020943396
A32: Keerthi Industries Ltd. | B32: ='Data Sheet'!B151 -> 0.013888889 | C32: 0.12 | D32: =B32-C32 -> -0.10611111 | E32: ='Data Sheet'!C151 -> 0.13380282 | F32: 0.12 | G32: =E32-F32 -> 0.013802817 | H32: ='Data Sheet'!D151 -> 0.076388889 | I32: 0.12 | J32: =H32-I32 -> -0.043611111 | K32: ='Data Sheet'!E151 -> 0.1025641 | L32: 0.12 | M32: =K32-L32 -> -0.017435897 | N32: ='Data Sheet'!F151 -> -0.10784314 | O32: 0.12 | P32: =N32-O32 -> -0.22784314 | Q32: ='Data Sheet'!G151 -> 0.15929204 | R32: 0.12 | S32: =Q32-R32 -> 0.039292035 | T32: ='Data Sheet'!H151 -> 0.18248175 | U32: 0.12 | V32: =T32-U32 -> 0.062481752 | W32: ='Data Sheet'!I151 -> 0.29310345 | X32: 0.12 | Y32: =W32-X32 -> 0.17310345 | Z32: ='Data Sheet'!J151 -> 0.21848739 | AA32: 0.12 | AB32: =Z32-AA32 -> 0.098487395 | AC32: ='Data Sheet'!K151 -> 0.068376068 | AD32: 0.12 | AE32: =AC32-AD32 -> -0.051623932
A33: Burnpur Cement Ltd. | B33: ='Data Sheet'!B156 -> -0.057142857 | C33: 0.12 | D33: =B33-C33 -> -0.17714286 | E33: ='Data Sheet'!C156 -> 0.025974026 | F33: 0.12 | G33: =E33-F33 -> -0.094025974 | H33: ='Data Sheet'!D156 -> 0.060064793 | I33: 0.12 | J33: =H33-I33 -> -0.059935207 | K33: ='Data Sheet'!E156 -> -0.037631647 | L33: 0.12 | M33: =K33-L33 -> -0.15763165 | N33: ='Data Sheet'!F156 -> 0.14874704 | O33: 0.12 | P33: =N33-O33 -> 0.028747041 | Q33: ='Data Sheet'!G156 -> 0.058825601 | R33: 0.12 | S33: =Q33-R33 -> -0.061174399 | T33: ='Data Sheet'!H156 -> 0.059490085 | U33: 0.12 | V33: =T33-U33 -> -0.060509915 | W33: ='Data Sheet'!I156 -> 0.64473684 | X33: 0.12 | Y33: =W33-X33 -> 0.52473684 | Z33: ='Data Sheet'!J156 -> 0.015564202 | AA33: 0.12 | AB33: =Z33-AA33 -> -0.1044358 | AC33: ='Data Sheet'!K156 -> 0.020661157 | AD33: 0.12 | AE33: =AC33-AD33 -> -0.099338843
A34: Scan Projects | B34: ='Data Sheet'!B161 -> 9.9615385 | C34: 0.12 | D34: =B34-C34 -> 9.8415385 | E34: ='Data Sheet'!C161 -> -0.46979866 | F34: 0.12 | G34: =E34-F34 -> -0.58979866 | H34: ='Data Sheet'!D161 -> -0.12426036 | I34: 0.12 | J34: =H34-I34 -> -0.24426036 | K34: ='Data Sheet'!E161 -> 0.010781671 | L34: 0.12 | M34: =K34-L34 -> -0.10921833 | N34: ='Data Sheet'!F161 -> -0.042889391 | O34: 0.12 | P34: =N34-O34 -> -0.16288939 | Q34: ='Data Sheet'!G161 -> -0.09054326 | R34: 0.12 | S34: =Q34-R34 -> -0.21054326 | T34: ='Data Sheet'!H161 -> -0.1323764 | U34: 0.12 | V34: =T34-U34 -> -0.2523764 | W34: ='Data Sheet'!I161 -> -0.043392505 | X34: 0.12 | Y34: =W34-X34 -> -0.1633925 | Z34: ='Data Sheet'!J161 -> 0.071984436 | AA34: 0.12 | AB34: =Z34-AA34 -> -0.048015564 | AC34: ='Data Sheet'!K161 -> 0.20084567 | AD34: 0.12 | AE34: =AC34-AD34 -> 0.080845666
A35: A Infrastructure Ltd. | B35: ='Data Sheet'!B166 -> 0.112 | C35: 0.12 | D35: =B35-C35 -> -0.008 | E35: ='Data Sheet'!C166 -> 0.10743802 | F35: 0.12 | G35: =E35-F35 -> -0.012561983 | H35: ='Data Sheet'!D166 -> 0.13295652 | I35: 0.12 | J35: =H35-I35 -> 0.012956522 | K35: ='Data Sheet'!E166 -> 0.081327434 | L35: 0.12 | M35: =K35-L35 -> -0.038672566 | N35: ='Data Sheet'!F166 -> 0.086956522 | O35: 0.12 | P35: =N35-O35 -> -0.033043478 | Q35: ='Data Sheet'!G166 -> -0.069230769 | R35: 0.12 | S35: =Q35-R35 -> -0.18923077 | T35: ='Data Sheet'!H166 -> 0.056737589 | U35: 0.12 | V35: =T35-U35 -> -0.063262411 | W35: ='Data Sheet'!I166 -> 0.10791367 | X35: 0.12 | Y35: =W35-X35 -> -0.012086331 | Z35: ='Data Sheet'!J166 -> 0.068965517 | AA35: 0.12 | AB35: =Z35-AA35 -> -0.051034483 | AC35: ='Data Sheet'!K166 -> 0.2962963 | AD35: 0.12 | AE35: =AC35-AD35 -> 0.1762963
A36: Ramco Industries Ltd. | B36: ='Data Sheet'!B171 -> 0.11423841 | C36: 0.12 | D36: =B36-C36 -> -0.0057615894 | E36: ='Data Sheet'!C171 -> 0.21583851 | F36: 0.12 | G36: =E36-F36 -> 0.095838509 | H36: ='Data Sheet'!D171 -> 0.071932299 | I36: 0.12 | J36: =H36-I36 -> -0.048067701 | K36: ='Data Sheet'!E171 -> 0.009202454 | L36: 0.12 | M36: =K36-L36 -> -0.11079755 | N36: ='Data Sheet'!F171 -> 0.13225806 | O36: 0.12 | P36: =N36-O36 -> 0.012258065 | Q36: ='Data Sheet'!G171 -> 0.086914062 | R36: 0.12 | S36: =Q36-R36 -> -0.033085937 | T36: ='Data Sheet'!H171 -> 0.027373527 | U36: 0.12 | V36: =T36-U36 -> -0.092626473 | W36: ='Data Sheet'!I171 -> 0.015399738 | X36: 0.12 | Y36: =W36-X36 -> -0.10460026 | Z36: ='Data Sheet'!J171 -> 0.040658277 | AA36: 0.12 | AB36: =Z36-AA36 -> -0.079341723 | AC36: ='Data Sheet'!K171 -> 0.027469136 | AD36: 0.12 | AE36: =AC36-AD36 -> -0.092530864
A37: Visaka Industries Ltd. | B37: ='Data Sheet'!B176 -> 0.18844221 | C37: 0.12 | D37: =B37-C37 -> 0.068442211 | E37: ='Data Sheet'!C176 -> 0.062211982 | F37: 0.12 | G37: =E37-F37 -> -0.057788018 | H37: ='Data Sheet'!D176 -> 0.15919283 | I37: 0.12 | J37: =H37-I37 -> 0.039192825 | K37: ='Data Sheet'!E176 -> -0.089552239 | L37: 0.12 | M37: =K37-L37 -> -0.20955224 | N37: ='Data Sheet'!F176 -> 0.20234114 | O37: 0.12 | P37: =N37-O37 -> 0.082341137 | Q37: ='Data Sheet'!G176 -> 0.012578616 | R37: 0.12 | S37: =Q37-R37 -> -0.10742138 | T37: ='Data Sheet'!H176 -> 0.13323353 | U37: 0.12 | V37: =T37-U37 -> 0.013233533 | W37: ='Data Sheet'!I176 -> 0.25247525 | X37: 0.12 | Y37: =W37-X37 -> 0.13247525 | Z37: ='Data Sheet'!J176 -> 0.12809316 | AA37: 0.12 | AB37: =Z37-AA37 -> 0.0080931587 | AC37: ='Data Sheet'!K176 -> 0.095174263 | AD37: 0.12 | AE37: =AC37-AD37 -> -0.024825737
A38: Everest Industries Ltd. | B38: ='Data Sheet'!B181 -> 0.27152318 | C38: 0.12 | D38: =B38-C38 -> 0.15152318 | E38: ='Data Sheet'!C181 -> 0.034482759 | F38: 0.12 | G38: =E38-F38 -> -0.085517241 | H38: ='Data Sheet'!D181 -> 0.19393939 | I38: 0.12 | J38: =H38-I38 -> 0.073939394 | K38: ='Data Sheet'!E181 -> -0.01511879 | L38: 0.12 | M38: =K38-L38 -> -0.13511879 | N38: ='Data Sheet'!F181 -> 0.076350093 | O38: 0.12 | P38: =N38-O38 -> -0.043649907 | Q38: ='Data Sheet'!G181 -> 0.069354839 | R38: 0.12 | S38: =Q38-R38 -> -0.050645161 | T38: ='Data Sheet'!H181 -> 0.15448505 | U38: 0.12 | V38: =T38-U38 -> 0.03448505 | W38: ='Data Sheet'!I181 -> 0.10820896 | X38: 0.12 | Y38: =W38-X38 -> -0.011791045 | Z38: ='Data Sheet'!J181 -> 0.30705394 | AA38: 0.12 | AB38: =Z38-AA38 -> 0.18705394 | AC38: ='Data Sheet'!K181 -> 0.064575646 | AD38: 0.12 | AE38: =AC38-AD38 -> -0.055424354
A39: Sahyadri Industries Ltd. | B39: ='Data Sheet'!B186 -> 0.32142857 | C39: 0.12 | D39: =B39-C39 -> 0.20142857 | E39: ='Data Sheet'!C186 -> 0.033755274 | F39: 0.12 | G39: =E39-F39 -> -0.086244726 | H39: ='Data Sheet'!D186 -> 0.14772727 | I39: 0.12 | J39: =H39-I39 -> 0.027727273 | K39: ='Data Sheet'!E186 -> 0 | L39: 0.12 | M39: =K39-L39 -> -0.12 | N39: ='Data Sheet'!F186 -> 0.29818182 | O39: 0.12 | P39: =N39-O39 -> 0.17818182 | Q39: ='Data Sheet'!G186 -> 0.083892617 | R39: 0.12 | S39: =Q39-R39 -> -0.036107383 | T39: ='Data Sheet'!H186 -> 0.23828125 | U39: 0.12 | V39: =T39-U39 -> 0.11828125 | W39: ='Data Sheet'!I186 -> 0.25454545 | X39: 0.12 | Y39: =W39-X39 -> 0.13454545 | Z39: ='Data Sheet'!J186 -> 0.11013216 | AA39: 0.12 | AB39: =Z39-AA39 -> -0.0098678414 | AC39: ='Data Sheet'!K186 -> 0.27142857 | AD39: 0.12 | AE39: =AC39-AD39 -> 0.15142857
A40: BIGBLOC Construction Ltd. | B40: ='Data Sheet'!B191 -> NA | C40: 0.12 | D40: NA | E40: ='Data Sheet'!C191 -> NA | F40: 0.12 | G40: NA | H40: ='Data Sheet'!D191 -> NA | I40: 0.12 | J40: NA | K40: ='Data Sheet'!E191 -> NA | L40: 0.12 | M40: NA | N40: ='Data Sheet'!F191 -> NA | O40: 0.12 | P40: NA | Q40: ='Data Sheet'!G191 -> NA | R40: 0.12 | S40: NA | T40: ='Data Sheet'!H191 -> 0.073196236 | U40: 0.12 | V40: =T40-U40 -> -0.046803764 | W40: ='Data Sheet'!I191 -> 0.092337165 | X40: 0.12 | Y40: =W40-X40 -> -0.027662835 | Z40: ='Data Sheet'!J191 -> 0.086351415 | AA40: 0.12 | AB40: =Z40-AA40 -> -0.033648585 | AC40: ='Data Sheet'!K191 -> 0.051948052 | AD40: 0.12 | AE40: =AC40-AD40 -> -0.068051948
...

Sheet Data Sheet
B1: 2010 | C1: 2011 | D1: 2012 | E1: 2013 | F1: 2014 | G1: 2015 | H1: 2016 | I1: 2017 | J1: 2018 | K1: 2019
A2: 1. UltraTech Cement
A3: CFO | B3: 1590 | C3: 1993 | D3: 3427 | E3: 3618 | F3: 3455 | G3: 4190 | H3: 4526 | I3: 5005 | J3: 3888 | K3: 5160
A4: Equity + Debt | B4: 6224 | C4: 16188 | D4: 18715 | E4: 22571 | F4: 24514 | G4: 28870 | H4: 32561 | I4: 32866 | J4: 45862 | K4: 51207
A5: RoCE | B5: =B3/B4 -> 0.25546272 | C5: =C3/C4 -> 0.12311589 | D5: =D3/D4 -> 0.18311515 | E5: =E3/E4 -> 0.16029418 | F5: =F3/F4 -> 0.14093987 | G5: =G3/G4 -> 0.14513336 | H5: =H3/H4 -> 0.13900064 | I5: =I3/I4 -> 0.15228504 | ... K5: =K3/K4 -> 0.10076747
A7: 2. Shree Cement
A8: CFO | B8: 1254 | C8: 1074 | D8: 1601 | E8: 1260 | F8: 1401 | G8: 1239 | H8: 1566 | I8: 2202 | J8: 1879 | K8: 2080
A9: Equity + Debt | B9: 3939 | C9: 3868 | D9: 4898 | E9: 5132 | F9: 5911 | G9: 6193 | H9: 7727 | I9: 8991 | J9: 12300 | K9: 12474
A10: RoCE | B10: =B8/B9 -> 0.31835491 | C10: =C8/C9 -> 0.27766287 | D10: =D8/D9 -> 0.32686811 | E10: =E8/E9 -> 0.24551832 | F10: =F8/F9 -> 0.23701573 | G10: =G8/G9 -> 0.20006459 | H10: =H8/H9 -> 0.20266598 | I10: =I8/I9 -> 0.24491158 | ... K10: =K8/K9 -> 0.16674683
A13: 3. Ambuja Cements
A14: CFO | B14: 1875 | C14: 1532 | D14: 1860 | E14: 1267 | F14: 1675 | G14: 1557 | H14: 2810 | I14: 3416 | J14: 1703 | K14: 4739
A15: Equity + Debt | B15: 7390 | C15: 8134 | D15: 8857 | E15: 9510 | F15: 10104 | G15: 10306 | H15: 19850 | I15: 20696 | J15: 22410 | K15: 24119
A16: RoCE | B16: =B14/B15 -> 0.25372124 | C16: =C14/C15 -> 0.18834522 | D16: =D14/D15 -> 0.21000339 | E16: =E14/E15 -> 0.13322818 | F16: =F14/F15 -> 0.16577593 | G16: =G14/G15 -> 0.15107704 | H16: =H14/H15 -> 0.14156171 | I16: =I14/I15 -> 0.16505605 | ... K16: =K14/K15 -> 0.1964841
A18: 4. ACC Ltd.
A19: CFO | B19: 1926 | C19: 1576 | D19: 1577 | E19: 1063 | F19: 1352 | G19: 1457 | H19: 1390 | I19: 1554 | J19: 1118 | K19: 2255
A20: Equity + Debt | B20: 6805 | C20: 7490 | D20: 7535 | E20: 7848 | F20: 8218 | G20: 8421 | H20: 8813 | I20: 9356 | J20: 10532 | K20: 11544
A21: RoCE | B21: =B19/B20 -> 0.28302719 | C21: =C19/C20 -> 0.21041389 | D21: =D19/D20 -> 0.20928998 | E21: =E19/E20 -> 0.13544852 | F21: =F19/F20 -> 0.16451691 | G21: =G19/G20 -> 0.17301983 | H21: =H19/H20 -> 0.15772155 | I21: =I19/I20 -> 0.16609662 | ... K21: =K19/K20 -> 0.19533957
A23: 5. The Ramco Cement
A24: CFO | B24: 681 | C24: 619 | D24: 864 | E24: 701 | F24: 509 | G24: 932 | H24: 1089 | I24: 1117 | J24: 1124 | K24: 793
A25: Equity + Debt | B25: 4125 | C25: 4526 | D25: 4761 | E25: 5038 | F25: 5369 | G25: 5360 | H25: 5274 | I25: 5233 | J25: 5234 | K25: 6174
A26: RoCE | B26: =B24/B25 -> 0.16509091 | C26: =C24/C25 -> 0.13676536 | D26: =D24/D25 -> 0.18147448 | E26: =E24/E25 -> 0.13914252 | F26: =F24/F25 -> 0.094803502 | G26: =G24/G25 -> 0.1738806 | H26: =H24/H25 -> 0.20648464 | I26: =I24/I25 -> 0.21345309 | ... K26: =K24/K25 -> 0.12844185
A28: 6. Dalmia Bharat Ltd.
A29: CFO | B29: NA | C29: NA | D29: NA | E29: NA | F29: NA | G29: NA | H29: NA | I29: 1875 | J29: 1606 | K29: 2090
A30: Equity + Debt | B30: NA | C30: NA | D30: NA | E30: NA | F30: NA | G30: NA | H30: NA | I30: 17655 | J30: 17587 | K30: 16503
A31: RoCE | B31: NA | C31: NA | D31: NA | E31: NA | F31: NA | G31: NA | H31: NA | I31: =I29/I30 -> 0.10620221 | J31: =J29/J30 -> 0.09131745 | K31: =K29/K30 -> 0.12664364
A33: 7. JK Cements
A34: CFO | B34: 257 | C34: 255 | D34: 520 | E34: 382 | F34: 364 | G34: 256 | H34: 580 | I34: 772 | J34: 883 | K34: 700
A35: Equity + Debt | B35: 2425 | C35: 2714 | D35: 2741 | E35: 3069 | F35: 4529 | G35: 4846 | H35: 4910 | I35: 5028 | J35: 4916 | K35: 5668
A36: RoCE | B36: =B34/B35 -> 0.10597938 | C36: =C34/C35 -> 0.093957259 | D36: =D34/D35 -> 0.18971178 | E36: =E34/E35 -> 0.12447051 | F36: =F34/F35 -> 0.080370943 | G36: =G34/G35 -> 0.052827074 | H36: =H34/H35 -> 0.11812627 | I36: =I34/I35 -> 0.15354018 | ... K36: =K34/K35 -> 0.12350035
A38: 8. Birla Corporation
A39: CFO | B39: 513 | C39: 249 | D39: 245 | E39: 196 | F39: 359 | G39: 282 | H39: 249 | I39: 677 | J39: 805 | K39: 1064
A40: Equity + Debt | B40: 2502 | C40: 3005 | D40: 3381 | E40: 3679 | F40: 3930 | G40: 3929 | H40: 4206 | I40: 7541 | J40: 8410 | K40: 8544
A41: RoCE | B41: =B39/B40 -> 0.20503597 | C41: =C39/C40 -> 0.082861897 | D41: =D39/D40 -> 0.072463768 | E41: =E39/E40 -> 0.053275347 | F41: =F39/F40 -> 0.091348601 | G41: =G39/G40 -> 0.071773988 | H41: =H39/H40 -> 0.059201141 | I41: =I39/I40 -> 0.089775892 | ... K41: =K39/K40 -> 0.12453184
A43: 9. Heidelberg Cements
A44: CFO | B44: 56 | C44: 52 | D44: 50 | E44: 119 | F44: NA | G44: 238 | H44: 257 | I44: 361 | J44: 377 | K44: 393
A45: Equity + Debt | B45: 784 | C45: 1593 | D45: 1878 | E45: 2191 | F45: NA | G45: 2171 | H45: 1934 | I45: 1672 | J45: 1666 | K45: 1689
A46: RoCE | B46: =B44/B45 -> 0.071428571 | C46: =C44/C45 -> 0.032642812 | D46: =D44/D45 -> 0.026624068 | E46: =E44/E45 -> 0.054313099 | F46: NA | G46: =G44/G45 -> 0.1096269 | H46: =H44/H45 -> 0.13288521 | I46: =I44/I45 -> 0.21590909 | J46: =J44/J45 -> 0.22629052 | K46: =K44/K45 -> 0.23268206
A48: 10. India Cements
A49: CFO | B49: 786 | C49: 441 | D49: 942 | E49: 732 | F49: 516 | G49: 645 | H49: 964 | I49: 765 | J49: 556 | K49: 280
A50: Equity + Debt | B50: 6346 | C50: 6727 | D50: 6973 | E50: 7307 | F50: 7169 | G50: 6882 | H50: 8346 | I50: 8275 | J50: 8466 | K50: 8698
...

Sheet Sheet3
