Workbook

Sheet INDEX SHEET
B2: Data Sheet | C2: Data Sheet 2 | D2: Data Sheet 3 | E2: Data Sheet 4 | F2: Data Sheet 5 | G2: Data Sheet 6 | H2: Data Sheet 7 | I2: Data Sheet 8 | J2: Data Sheet 9 | K2: Misc. | L2: Data Sheet 10 | M2: Data Sheet 11 | N2: Data Sheet 12 | O2: Data Sheet 13 | P2: Data Sheet 14 | Q2: Data Sheet 15 | R2: Data Sheet 16 | S2: Data Sheet 17
B3: Leather | C3: Auto Ancilliaries | D3: Pharmaceuticals | E3: Textile | F3: FMCG | G3: Steel | H3: Trading | I3: Finance | J3: Education | K3: Miscellaneous | L3: Diversified | M3: IT Hardware | N3: Realty | O3: IT Software | P3: Power Generation & Distribution | Q3: Hotels & Restaurants | R3: Ceramics | S3: Chemicals
B4: Air Transport Service | C4: Banks | D4: Edible Oil | E4: Agro Chemicals | F4: Capital Goods (Electric equipments) | G4: Diamond, Gem & Jewellery | H4: Capital Goods (Non-Electric Equipment) | I4: Non Ferrous Metals | J4: Cement Products | L4: Glass & Glass Products | M4: Stock/Commodity Brokers | N4: Healthcare | P4: Sugar | Q4: Entertainment | R4: Refineries | S4: Paper
B5: Tyres | C5: Logistics | F5: Cables | G5: Plantation & Plantation Products | H5: Engineering | J5: Computer Education | L5: Crude Oil & Natural Gas | M5: Media-Print/TV/Radio | N5: Cement | P5: Construction | R5: Insurance
B6: Petrochemicals | C6: Telecom Equipment | F6: Castings, Forgings & Fastners | J6: Gas Distribution | L6: E-Commerce/App Based | M6: Fertilizers | R6: Telecomm-Service
B7: Alcoholic Beverages | J7: Ship Building | L7: Electronics | M7: Mining & Minerals | R7: Automobile
B8: Consumer Durables | J8: Shipping | L8: Paints/Varnish | M8: Infrastructure Developers & Operators | R8: Retail
B9: Plastic Products | L9: Printing & Stationery | M9: Packaging | R9: Readymade Garments/Apparell
L10: Tobacco Products
L11: Bearings
L12: Oil Drill/Allied
L13: Refactories
L14: Dry Cells
L15: Credit Rating Agencies
L16: Infrastructure Investment Trust
L17: Telecom-Handset/Mobile
L18: Marine Port & Services
L19: Power Infrastructure
L20: Railways
L21: Real Estate Investment Trust
L22: Sanitaryware

Sheet Main Sheet
A1: Sector | B1: Weighted-Average Return (10 Year)
A2: Railways | B2: ='Data Sheet 10'!AI136 -> 0.37
A3: Tobacco Products | B3: ='Data Sheet 10'!AI78 -> 0.29834911
A4: Credit Rating Agencies | B4: ='Data Sheet 10'!AI114 -> 0.29253373
A5: FMCG | B5: ='Data Sheet 5'!AI98 -> 0.24830875
A6: Paints/Vanish | B6: ='Data Sheet 10'!AI61 -> 0.24305398
A7: IT Software | B7: ='Data Sheet 13'!AI170 -> 0.19678376
A8: Air Transport Service | B8: ='Data Sheet'!AI29 -> 0.17541755
A9: Ship Building | B9: ='Data Sheet 9'!AI68 -> 0.16283878
A10: Mining & Minerals | B10: ='Data Sheet 11'!AI124 -> 0.13879642
A11: Diamond, Gems and Jewellery | B11: ='Data Sheet 6'!AI168 -> 0.12015668
A12: Bearings | B12: ='Data Sheet 10'!AI86 -> 0.11802127
A13: Engineering | B13: ='Data Sheet 7'!AI381 -> 0.11031821
A14: Refactories | B14: ='Data Sheet 10'!AI101 -> 0.11024422
A15: E-Commerce/App Based | B15: ='Data Sheet 10'!AI45 -> 0.095744067
A16: Capital Goods (Non-Electric Equipment) | B16: ='Data Sheet 7'!AI345 -> 0.08676881
A17: Readymade Garments/Apparells | B17: ='Data Sheet 16'!AI101 -> 0.084871899
A18: Tyres | B18: ='Data Sheet'!AI44 -> 0.074168178
A19: Capital Goods (Electric Equipment) | B19: ='Data Sheet 5'!AI171 -> 0.074089341
A20: Automobile | B20: ='Data Sheet 16'!AI64 -> 0.071710855
A21: Gas Distribution | B21: ='Data Sheet 9'!AI48 -> 0.070675567
A22: Auto Ancilliaries | B22: ='Data Sheet 2'!AI103 -> 0.069599541
A23: Crude Oil & Natural Gas | B23: ='Data Sheet 10'!AI38 -> 0.068475578
A24: Agro Chemicals | B24: ='Data Sheet 4'!AI302 -> 0.068354775
A25: Ceramics | B25: ='Data Sheet 16'!AI14 -> 0.063175977
A26: Media-Print/TV/Radio | B26: ='Data Sheet 11'!AI54 -> 0.062742782
A27: Power Infrastrucutre | B27: ='Data Sheet 10'!AI132 -> 0.062166667
A28: Pharmaceuticals | B28: ='Data Sheet 3'!AI161 -> 0.05226472
A29: Chemicals | B29: ='Data Sheet 17'!AI163 -> 0.040370248
A30: Power Generation & Distribution | B30: ='Data Sheet 14'!AI37 -> 0.037688056
A31: Petrochemicals | B31: ='Data Sheet'!AI63 -> 0.037214228
A32: Miscellaneous | B32: =MISC.!AI107 -> 0.031816966
A33: Finance | B33: ='Data Sheet 8'!AI405 -> 0.029306369
A34: Plastic Products | B34: ='Data Sheet'!AI211 -> 0.021858992
A35: Diversified | B35: ='Data Sheet 10'!AI15 -> 0.015133126
A36: Cables | B36: ='Data Sheet 5'!AI197 -> 0.014992022
A37: Leather | B37: ='Data Sheet'!AI20 -> 0.014469455
A38: Marine Port & Services | B38: ='Data Sheet 10'!AI128 -> 0.014444444
A39: Logistics | B39: ='Data Sheet 2'!AI176 -> 0.013098787
A40: Plantation & Plantation Products | B40: ='Data Sheet 6'!AI212 -> 0.012851215
...

Sheet Sector Wise Analysis
A1: Industry/Company | B1: Weighted Average
A3: Leather | B3: Weighted Average
A4: Relaxo Footwear | B4: =VLOOKUP('Sector Wise Analysis'!A4,'Data Sheet'!A:AL,35,0) -> 0.024835906
A5: Mirza International Ltd. | B5: =VLOOKUP('Sector Wise Analysis'!A5,'Data Sheet'!A:AL,35,0) -> 0.0097703903
A6: Khadim India Ltd. | B6: =VLOOKUP('Sector Wise Analysis'!A6,'Data Sheet'!A:AL,35,0) -> 0.0032617213
A7: Superhouse Ltd. | B7: =VLOOKUP('Sector Wise Analysis'!A7,'Data Sheet'!A:AL,35,0) -> 0.00069394514
A8: Oscar Global Ltd. | B8: =VLOOKUP('Sector Wise Analysis'!A8,'Data Sheet'!A:AL,35,0) -> -2.4936341e-05
A9: Amin Tannery Ltd. | B9: =VLOOKUP('Sector Wise Analysis'!A9,'Data Sheet'!A:AL,35,0) -> -0.000115252
A10: S R Industries Ltd. | B10: =VLOOKUP('Sector Wise Analysis'!A10,'Data Sheet'!A:AL,35,0) -> -0.0001932931
A11: Mayur Leather Products Ltd. | B11: =VLOOKUP('Sector Wise Analysis'!A11,'Data Sheet'!A:AL,35,0) -> -0.00020860885
A12: Lehar Footwears Ltd. | B12: =VLOOKUP('Sector Wise Analysis'!A12,'Data Sheet'!A:AL,35,0) -> -0.00049971364
A13: Sarup Industries Ltd. | B13: =VLOOKUP('Sector Wise Analysis'!A13,'Data Sheet'!A:AL,35,0) -> -0.00050951465
A14: Super Tannery Ltd. | B14: =VLOOKUP('Sector Wise Analysis'!A14,'Data Sheet'!A:AL,35,0) -> -0.00055551192
A15: Liberty Shoes Ltd. | B15: =VLOOKUP('Sector Wise Analysis'!A15,'Data Sheet'!A:AL,35,0) -> -0.0015262204
... A19: Bata India Ltd. | B19: =VLOOKUP('Sector Wise Analysis'!A19,'Data Sheet'!A:AL,35,0) -> -0.00985683
A21: Air Transport Service | B21: Weighted Average
A22: Interglobe Aviation Ltd. | B22: =VLOOKUP('Sector Wise Analysis'!A22,'Data Sheet'!A:AL,35,0) -> 0.17379619
A23: SpiceJet Ltd. | B23: =VLOOKUP('Sector Wise Analysis'!A23,'Data Sheet'!A:AL,35,0) -> 0.0143494
A24: TAAL Enterprises Ltd. | B24: =VLOOKUP('Sector Wise Analysis'!A24,'Data Sheet'!A:AL,35,0) -> 0.00045693297
A25: MFL India Ltd. | B25: =VLOOKUP('Sector Wise Analysis'!A25,'Data Sheet'!A:AL,35,0) -> -1.886797e-05
A26: Global Vectra Helicorp Ltd. | B26: =VLOOKUP('Sector Wise Analysis'!A26,'Data Sheet'!A:AL,35,0) -> -0.0017836
A27: Jet Airways (India) Ltd. | B27: =VLOOKUP('Sector Wise Analysis'!A27,'Data Sheet'!A:AL,35,0) -> -0.011382502
A36: Tyres | B36: Weighted Average
A37: MRF Ltd. | B37: =VLOOKUP('Sector Wise Analysis'!A37,'Data Sheet'!A:AL,35,0) -> 0.031006555
A38: Apollo Tyres Ltd. | B38: =VLOOKUP('Sector Wise Analysis'!A38,'Data Sheet'!A:AL,35,0) -> 0.021426368
A39: Balkrishna Industries Ltd. | B39: =VLOOKUP('Sector Wise Analysis'!A39,'Data Sheet'!A:AL,35,0) -> 0.0086592317
A40: CEAT Ltd. | B40: =VLOOKUP('Sector Wise Analysis'!A40,'Data Sheet'!A:AL,35,0) -> 0.0060892638
A41: Goodyear India Ltd. | B41: =VLOOKUP('Sector Wise Analysis'!A41,'Data Sheet'!A:AL,35,0) -> 0.0033745457
A42: TVS Srichakra Ltd. | B42: =VLOOKUP('Sector Wise Analysis'!A42,'Data Sheet'!A:AL,35,0) -> 0.0031214661
A43: JK Tyres & Industries Ltd. | B43: =VLOOKUP('Sector Wise Analysis'!A43,'Data Sheet'!A:AL,35,0) -> 0.0015522386
A44: Dolfin Rubbers Ltd. | B44: =VLOOKUP('Sector Wise Analysis'!A44,'Data Sheet'!A:AL,35,0) -> 2.6604776e-05
A45: Govind Rubber Ltd. | B45: =VLOOKUP('Sector Wise Analysis'!A45,'Data Sheet'!A:AL,35,0) -> -2.035957e-06
A46: Innovative Tyres & Tubes Ltd. | B46: =VLOOKUP('Sector Wise Analysis'!A46,'Data Sheet'!A:AL,35,0) -> -8.2628218e-06
A47: Krypton Industries Ltd. | B47: =VLOOKUP('Sector Wise Analysis'!A47,'Data Sheet'!A:AL,35,0) -> -5.7400552e-05
A48: Modi Rubber Ltd. | B48: =VLOOKUP('Sector Wise Analysis'!A48,'Data Sheet'!A:AL,35,0) -> -0.0010203968
A52: Petrochemicals | B52: Weighted Average
A53: Hindustan Fluoro Carbons Ltd. | B53: =VLOOKUP('Sector Wise Analysis'!A53,'Data Sheet'!A:AL,35,0) -> 0.019272076
A54: Supreme Petrochem Ltd. | B54: =VLOOKUP('Sector Wise Analysis'!A54,'Data Sheet'!A:AL,35,0) -> 0.011563962
A55: Savita Oil Technologies Ltd. | B55: =VLOOKUP('Sector Wise Analysis'!A55,'Data Sheet'!A:AL,35,0) -> 0.0095175476
A56: Manali Petrochemicals Ltd. | B56: =VLOOKUP('Sector Wise Analysis'!A56,'Data Sheet'!A:AL,35,0) -> 0.0068429126
...

Sheet Data Sheet
A1: Industry/Companies | B1: 2010 | E1: 2011 | H1: 2012 | K1: 2013 | N1: 2014 | Q1: 2015 | T1: 2016 | W1: 2017 | Z1: 2018 | AC1: 2019 | AF1: Average | AG1: Total Capital | AH1: Weight | AI1: Weighted Average | AJ1: Total Assets | AK1: Debt-to-Equity Ratio | AL1: 10-Year Returns | AM1: Median
B2: RoCE | C2: CoC | D2: RoCE - CoC | E2: RoCE | F2: CoC | G2: RoCE - CoC | H2: RoCE | I2: CoC | J2: RoCE - CoC | K2: RoCE | L2: CoC | M2: RoCE - CoC | N2: RoCE | O2: CoC | P2: RoCE - CoC | Q2: RoCE | R2: CoC | S2: RoCE - CoC | T2: RoCE | U2: CoC | V2: RoCE - CoC | W2: RoCE | X2: CoC | Y2: RoCE - CoC | Z2: RoCE | AA2: CoC | AB2: RoCE - CoC | AC2: RoCE | AD2: CoC | AE2: RoCE - CoC
A3: Leather
A4: Bata India Ltd. | B4: 0.08 | C4: 0.1305 | D4: =B4-C4 -> -0.0505 | E4: 0.07 | F4: 0.1305 | G4: =E4-F4 -> -0.0605 | H4: 0.11 | I4: 0.1305 | J4: =H4-I4 -> -0.0205 | K4: 0.11 | L4: 0.1305 | M4: =K4-L4 -> -0.0205 | N4: 0.12 | O4: 0.1305 | P4: =N4-O4 -> -0.0105 | Q4: 0.1 | R4: 0.1305 | S4: =Q4-R4 -> -0.0305 | T4: 0.1 | U4: 0.1305 | V4: =T4-U4 -> -0.0305 | W4: 0.08 | X4: 0.1305 | Y4: =W4-X4 -> -0.0505 | Z4: 0.08 | AA4: 0.1305 | AB4: =Z4-AA4 -> -0.0505 | AC4: 0.09 | AD4: 0.1305 | AE4: =AC4-AD4 -> -0.0405 | AF4: =AVERAGE(D4,G4,J4,M4,P4,S4,V4,Y4,AB4,AE4) -> -0.0365 | AG4: 2107.69 | AH4: =AG4/$AG$20 -> 0.27005014 | AI4: =AF4*AH4 -> -0.00985683 | AJ4: 3732.46 | AK4: 0.11 | AL4: 26.28
A5: Relaxo Footwear | B5: 0.36 | C5: 0.1305 | D5: =B5-C5 -> 0.2295 | E5: 0.18 | F5: 0.1305 | G5: =E5-F5 -> 0.0495 | H5: 0.22 | I5: 0.1305 | J5: =H5-I5 -> 0.0895 | K5: 0.22 | L5: 0.1305 | M5: =K5-L5 -> 0.0895 | N5: 0.26 | O5: 0.1305 | P5: =N5-O5 -> 0.1295 | Q5: 0.3 | R5: 0.1305 | S5: =Q5-R5 -> 0.1695 | T5: 0.3 | U5: 0.1305 | V5: =T5-U5 -> 0.1695 | W5: 0.26 | X5: 0.1305 | Y5: =W5-X5 -> 0.1295 | Z5: 0.3 | AA5: 0.1305 | AB5: =Z5-AA5 -> 0.1695 | AC5: 0.26 | AD5: 0.1305 | AE5: =AC5-AD5 -> 0.1295 | AF5: =AVERAGE(D5,G5,J5,M5,P5,S5,V5,Y5,AB5,AE5) -> 0.1355 | AG5: 1430.55 | AH5: =AG5/$AG$20 -> 0.18329082 | AI5: =AF5*AH5 -> 0.024835906 | AJ5: 1804.68 | AK5: 0.19 | AL5: 46.81
A6: Mirza International Ltd. | B6: 0.18 | C6: 0.1305 | D6: =B6-C6 -> 0.0495 | E6: 0.26 | F6: 0.1305 | G6: =E6-F6 -> 0.1295 | H6: 0.21 | I6: 0.1305 | J6: =H6-I6 -> 0.0795 | K6: 0.24 | L6: 0.1305 | M6: =K6-L6 -> 0.1095 | N6: 0.23 | O6: 0.1305 | P6: =N6-O6 -> 0.0995 | Q6: 0.23 | R6: 0.1305 | S6: =Q6-R6 -> 0.0995 | T6: 0.25 | U6: 0.1305 | V6: =T6-U6 -> 0.1195 | W6: 0.2 | X6: 0.1305 | Y6: =W6-X6 -> 0.0695 | Z6: 0.19 | AA6: 0.1305 | AB6: =Z6-AA6 -> 0.0595 | AC6: 0.12 | AD6: 0.1305 | AE6: =AC6-AD6 -> -0.0105 | AF6: =AVERAGE(D6,G6,J6,M6,P6,S6,V6,Y6,AB6,AE6) -> 0.0805 | AG6: 947.28 | AH6: =AG6/$AG$20 -> 0.12137131 | AI6: =AF6*AH6 -> 0.0097703903 | AJ6: 1291.29 | AK6: 0.54 | AL6: 10.32
A7: Sreeleathers Ltd. | B7: 0.02 | C7: 0.1305 | D7: =B7-C7 -> -0.1105 | E7: 0.03 | F7: 0.1305 | G7: =E7-F7 -> -0.1005 | H7: 0.04 | I7: 0.1305 | J7: =H7-I7 -> -0.0905 | K7: 0.06 | L7: 0.1305 | M7: =K7-L7 -> -0.0705 | N7: 0.06 | O7: 0.1305 | P7: =N7-O7 -> -0.0705 | Q7: 0.06 | R7: 0.1305 | S7: =Q7-R7 -> -0.0705 | T7: 0.08 | U7: 0.1305 | V7: =T7-U7 -> -0.0505 | W7: 0.09 | X7: 0.1305 | Y7: =W7-X7 -> -0.0405 | Z7: 0.13 | AA7: 0.1305 | AB7: =Z7-AA7 -> -0.0005 | AC7: 0.14 | AD7: 0.1305 | AE7: =AC7-AD7 -> 0.0095 | AF7: =AVERAGE(D7,G7,J7,M7,P7,S7,V7,Y7,AB7,AE7) -> -0.0595 | AG7: 310.73 | AH7: =AG7/$AG$20 -> 0.039812628 | AI7: =AF7*AH7 -> -0.0023688514 | AJ7: 342.31 | AK7: 0 | AL7: NA
A8: Liberty Shoes Ltd. | B8: 0.07 | C8: 0.1305 | D8: =B8-C8 -> -0.0605 | E8: 0.07 | F8: 0.1305 | G8: =E8-F8 -> -0.0605 | H8: 0.09 | I8: 0.1305 | J8: =H8-I8 -> -0.0405 | K8: 0.08 | L8: 0.1305 | M8: =K8-L8 -> -0.0505 | N8: 0.12 | O8: 0.1305 | P8: =N8-O8 -> -0.0105 | Q8: 0.12 | R8: 0.1305 | S8: =Q8-R8 -> -0.0105 | T8: 0.1 | U8: 0.1305 | V8: =T8-U8 -> -0.0305 | W8: 0.09 | X8: 0.1305 | Y8: =W8-X8 -> -0.0405 | Z8: NA | AA8: 0.1305 | AB8: NA | AC8: NA | AD8: 0.1305 | AE8: NA | AF8: =AVERAGE(D8,G8,J8,M8,P8,S8,V8,Y8,AB8,AE8) -> -0.038 | AG8: 313.47 | AH8: =AG8/$AG$20 -> 0.040163694 | AI8: =AF8*AH8 -> -0.0015262204 | AJ8: 478.29 | AK8: 0.71 | AL8: 1.19
A9: Khadim India Ltd. | B9: NA | C9: 0.1305 | D9: NA | E9: NA | F9: 0.1305 | G9: NA | H9: NA | I9: 0.1305 | J9: NA | K9: NA | L9: 0.1305 | M9: NA | N9: NA | O9: 0.1305 | P9: NA | Q9: NA | R9: 0.1305 | S9: NA | T9: 0.15 | U9: 0.1305 | V9: =T9-U9 -> 0.0195 | W9: 0.2 | X9: 0.1305 | Y9: =W9-X9 -> 0.0695 | Z9: 0.22 | AA9: 0.1305 | AB9: =Z9-AA9 -> 0.0895 | AC9: 0.13 | AD9: 0.1305 | AE9: =AC9-AD9 -> -0.0005 | AF9: =AVERAGE(D9,G9,J9,M9,P9,S9,V9,Y9,AB9,AE9) -> 0.0445 | AG9: 572.07 | AH9: =AG9/$AG$20 -> 0.073297108 | AI9: =AF9*AH9 -> 0.0032617213 | AJ9: 824.22 | AK9: 1.15 | AL9: NA
A10: Bhartiya International Ltd. | B10: 0.08 | C10: 0.1305 | D10: =B10-C10 -> -0.0505 | E10: 0.07 | F10: 0.1305 | G10: =E10-F10 -> -0.0605 | H10: 0.11 | I10: 0.1305 | J10: =H10-I10 -> -0.0205 | K10: 0.11 | L10: 0.1305 | M10: =K10-L10 -> -0.0205 | N10: 0.12 | O10: 0.1305 | P10: =N10-O10 -> -0.0105 | Q10: 0.1 | R10: 0.1305 | S10: =Q10-R10 -> -0.0305 | T10: 0.1 | U10: 0.1305 | V10: =T10-U10 -> -0.0305 | W10: 0.08 | X10: 0.1305 | Y10: =W10-X10 -> -0.0505 | Z10: 0.08 | AA10: 0.1305 | AB10: =Z10-AA10 -> -0.0505 | AC10: 0.09 | AD10: 0.1305 | AE10: =AC10-AD10 -> -0.0405 | AF10: =AVERAGE(D10,G10,J10,M10,P10,S10,V10,Y10,AB10,AE10) -> -0.0365 | AG10: 825.98 | AH10: =AG10/$AG$20 -> 0.10582961 | AI10: =AF10*AH10 -> -0.0038627808 | AJ10: 993.62 | AK10: 1.02 | AL10: 3
A11: Superhouse Ltd. | B11: 0.14 | C11: 0.1305 | D11: =B11-C11 -> 0.0095 | E11: 0.16 | F11: 0.1305 | G11: =E11-F11 -> 0.0295 | H11: 0.17 | I11: 0.1305 | J11: =H11-I11 -> 0.0395 | K11: 0.16 | L11: 0.1305 | M11: =K11-L11 -> 0.0295 | N11: 0.21 | O11: 0.1305 | P11: =N11-O11 -> 0.0795 | Q11: 0.18 | R11: 0.1305 | S11: =Q11-R11 -> 0.0495 | T11: 0.14 | U11: 0.1305 | V11: =T11-U11 -> 0.0095 | W11: 0.08 | X11: 0.1305 | Y11: =W11-X11 -> -0.0505 | Z11: 0.07 | AA11: 0.1305 | AB11: =Z11-AA11 -> -0.0605 | AC11: 0.1 | AD11: 0.1305 | AE11: =AC11-AD11 -> -0.0305 | AF11: =AVERAGE(D11,G11,J11,M11,P11,S11,V11,Y11,AB11,AE11) -> 0.0105 | AG11: 515.82 | AH11: =AG11/$AG$20 -> 0.066090014 | AI11: =AF11*AH11 -> 0.00069394514 | AJ11: 724.08 | AK11: 0.52 | AL11: 1.84
A12: Lehar Footwears Ltd. | B12: 0.05 | C12: 0.1305 | D12: =B12-C12 -> -0.0805 | E12: 0.1 | F12: 0.1305 | G12: =E12-F12 -> -0.0305 | H12: 0.09 | I12: 0.1305 | J12: =H12-I12 -> -0.0405 | K12: 0.1 | L12: 0.1305 | M12: =K12-L12 -> -0.0305 | N12: 0.1 | O12: 0.1305 | P12: =N12-O12 -> -0.0305 | Q12: 0.1 | R12: 0.1305 | S12: =Q12-R12 -> -0.0305 | T12: 0.12 | U12: 0.1305 | V12: =T12-U12 -> -0.0105 | W12: 0.07 | X12: 0.1305 | Y12: =W12-X12 -> -0.0605 | Z12: 0.07 | AA12: 0.1305 | AB12: =Z12-AA12 -> -0.0605 | AC12: 0.09 | AD12: 0.1305 | AE12: =AC12-AD12 -> -0.0405 | AF12: =AVERAGE(D12,G12,J12,M12,P12,S12,V12,Y12,AB12,AE12) -> -0.0415 | AG12: 93.98 | AH12: =AG12/$AG$20 -> 0.012041292 | AI12: =AF12*AH12 -> -0.00049971364 | AJ12: 141.94 | AK12: 0.6 | AL12: 9.58
A13: Super Tannery Ltd. | B13: 0.1 | C13: 0.1305 | D13: =B13-C13 -> -0.0305 | E13: 0.11 | F13: 0.1305 | G13: =E13-F13 -> -0.0205 | H13: 0.14 | I13: 0.1305 | J13: =H13-I13 -> 0.0095 | K13: 0.12 | L13: 0.1305 | M13: =K13-L13 -> -0.0105 | N13: 0.15 | O13: 0.1305 | P13: =N13-O13 -> 0.0195 | Q13: 0.12 | R13: 0.1305 | S13: =Q13-R13 -> -0.0105 | T13: 0.09 | U13: 0.1305 | V13: =T13-U13 -> -0.0405 | W13: 0.07 | X13: 0.1305 | Y13: =W13-X13 -> -0.0605 | Z13: 0.07 | AA13: 0.1305 | AB13: =Z13-AA13 -> -0.0605 | AC13: 0.07 | AD13: 0.1305 | AE13: =AC13-AD13 -> -0.0605 | AF13: =AVERAGE(D13,G13,J13,M13,P13,S13,V13,Y13,AB13,AE13) -> -0.0265 | AG13: 163.61 | AH13: =AG13/$AG$20 -> 0.020962714 | AI13: =AF13*AH13 -> -0.00055551192 | AJ13: 234.74 | AK13: 1.15 | AL13: -0.76
A14: Phoenix International Ltd. | B14: NA | C14: 0.1305 | D14: NA | E14: NA | F14: 0.1305 | G14: NA | H14: NA | I14: 0.1305 | J14: NA | K14: NA | L14: 0.1305 | M14: NA | N14: 0.0646 | O14: 0.1305 | P14: =N14-O14 -> -0.0659 | Q14: 0.0593 | R14: 0.1305 | S14: =Q14-R14 -> -0.0712 | T14: 0.065 | U14: 0.1305 | V14: =T14-U14 -> -0.0655 | W14: 0.034 | X14: 0.1305 | Y14: =W14-X14 -> -0.0965 | Z14: 0.0282 | AA14: 0.1305 | AB14: =Z14-AA14 -> -0.1023 | AC14: 0.033 | AD14: 0.1305 | AE14: =AC14-AD14 -> -0.0975 | AF14: =AVERAGE(D14,G14,J14,M14,P14,S14,V14,Y14,AB14,AE14) -> -0.08315 | AG14: 410.28 | AH14: =AG14/$AG$20 -> 0.052567583 | AI14: =AF14*AH14 -> -0.0043709946 | AJ14: 455.67 | AK14: 0.24 | AL14: -7.12
A15: Amin Tannery Ltd. | B15: NA | C15: 0.1305 | D15: NA | E15: NA | F15: 0.1305 | G15: NA | H15: NA | I15: 0.1305 | J15: NA | K15: NA | L15: 0.1305 | M15: NA | N15: NA | O15: 0.1305 | P15: NA | Q15: NA | R15: 0.1305 | S15: NA | T15: NA | U15: 0.1305 | V15: NA | W15: NA | X15: 0.1305 | Y15: NA | Z15: 0.1469 | AA15: 0.1305 | AB15: =Z15-AA15 -> 0.0164 | AC15: 0.0661 | AD15: 0.1305 | AE15: =AC15-AD15 -> -0.0644 | AF15: =AVERAGE(D15,G15,J15,M15,P15,S15,V15,Y15,AB15,AE15) -> -0.024 | AG15: 37.48 | AH15: =AG15/$AG$20 -> 0.0048021669 | AI15: =AF15*AH15 -> -0.000115252 | AJ15: 51.85 | AK15: 2.3 | AL15: NA
A16: Sarup Industries Ltd. | B16: 0.0572 | C16: 0.1305 | D16: =B16-C16 -> -0.0733 | E16: 0.1156 | F16: 0.1305 | G16: =E16-F16 -> -0.0149 | H16: 0.121 | I16: 0.1305 | J16: =H16-I16 -> -0.0095 | K16: 0.0764 | L16: 0.1305 | M16: =K16-L16 -> -0.0541 | N16: 0.0887 | O16: 0.1305 | P16: =N16-O16 -> -0.0418 | Q16: 0.1131 | R16: 0.1305 | S16: =Q16-R16 -> -0.0174 | T16: -0.0085 | U16: 0.1305 | V16: =T16-U16 -> -0.139 | W16: 0.0473 | X16: 0.1305 | Y16: =W16-X16 -> -0.0832 | Z16: -0.0195 | AA16: 0.1305 | AB16: =Z16-AA16 -> -0.15 | AC16: -0.1333 | AD16: 0.1305 | AE16: =AC16-AD16 -> -0.2638 | AF16: =AVERAGE(D16,G16,J16,M16,P16,S16,V16,Y16,AB16,AE16) -> -0.0847 | AG16: 46.95 | AH16: =AG16/$AG$20 -> 0.0060155212 | AI16: =AF16*AH16 -> -0.00050951465 | AJ16: 74.37 | AK16: 5.16 | AL16: -3.86
A17: Oscar Global Ltd. | B17: 0.1903 | C17: 0.1305 | D17: =B17-C17 -> 0.0598 | E17: 0.1649 | F17: 0.1305 | G17: =E17-F17 -> 0.0344 | H17: 0.1222 | I17: 0.1305 | J17: =H17-I17 -> -0.0083 | K17: 0.1559 | L17: 0.1305 | M17: =K17-L17 -> 0.0254 | N17: 0.5631 | O17: 0.1305 | P17: =N17-O17 -> 0.4326 | Q17: 0.1121 | R17: 0.1305 | S17: =Q17-R17 -> -0.0184 | T17: 0.0468 | U17: 0.1305 | V17: =T17-U17 -> -0.0837 | W17: 0.0195 | X17: 0.1305 | Y17: =W17-X17 -> -0.111 | Z17: 0.0146 | AA17: 0.1305 | AB17: =Z17-AA17 -> -0.1159 | AC17: -0.7062 | AD17: 0.1305 | AE17: =AC17-AD17 -> -0.8367 | AF17: =AVERAGE(D17,G17,J17,M17,P17,S17,V17,Y17,AB17,AE17) -> -0.06218 | AG17: 3.13 | AH17: =AG17/$AG$20 -> 0.00040103475 | AI17: =AF17*AH17 -> -2.4936341e-05 | AJ17: 3.31 | AK17: 0 | AL17: 7.9
A18: Mayur Leather Products Ltd. | B18: 0.0523 | C18: 0.1305 | D18: =B18-C18 -> -0.0782 | E18: 0.0237 | F18: 0.1305 | G18: =E18-F18 -> -0.1068 | H18: 0.0358 | I18: 0.1305 | J18: =H18-I18 -> -0.0947 | K18: 0.0894 | L18: 0.1305 | M18: =K18-L18 -> -0.0411 | N18: 0.107 | O18: 0.1305 | P18: =N18-O18 -> -0.0235 | Q18: 0.0557 | R18: 0.1305 | S18: =Q18-R18 -> -0.0748 | T18: 0.0427 | U18: 0.1305 | V18: =T18-U18 -> -0.0878 | W18: -0.0846 | X18: 0.1305 | Y18: =W18-X18 -> -0.2151 | Z18: -0.1061 | AA18: 0.1305 | AB18: =Z18-AA18 -> -0.2366 | AC18: -0.0976 | AD18: 0.1305 | AE18: =AC18-AD18 -> -0.2281 | AF18: =AVERAGE(D18,G18,J18,M18,P18,S18,V18,Y18,AB18,AE18) -> -0.11867 | AG18: 13.72 | AH18: =AG18/$AG$20 -> 0.0017578903 | AI18: =AF18*AH18 -> -0.00020860885 | AJ18: 21.3 | AK18: 0.99 | AL18: -21.36
A19: S R Industries Ltd. | B19: 0.0159 | C19: 0.1305 | D19: =B19-C19 -> -0.1146 | E19: -0.0921 | F19: 0.1305 | G19: =E19-F19 -> -0.2226 | H19: -0.1445 | I19: 0.1305 | J19: =H19-I19 -> -0.275 | K19: NA | L19: 0.1305 | M19: NA | N19: 0.1647 | O19: 0.1305 | P19: =N19-O19 -> 0.0342 | Q19: 0.2135 | R19: 0.1305 | S19: =Q19-R19 -> 0.083 | T19: 0.1099 | U19: 0.1305 | V19: =T19-U19 -> -0.0206 | W19: 0.2084 | X19: 0.1305 | Y19: =W19-X19 -> 0.0779 | Z19: 0.0087 | AA19: 0.1305 | AB19: =Z19-AA19 -> -0.1218 | AC19: -0.4349 | AD19: 0.1305 | AE19: =AC19-AD19 -> -0.5654 | AF19: =AVERAGE(D19,G19,J19,M19,P19,S19,V19,Y19,AB19,AE19) -> -0.12498889 | AG19: 12.07 | AH19: =AG19/$AG$20 -> 0.0015464822 | AI19: =AF19*AH19 -> -0.0001932931 | AJ19: 37.39 | AK19: NA | AL19: -25.64
AF20: =AVERAGE(AF4:AF19) -> -0.029074306 | AG20: =SUM(AG4:AG19) -> 7804.81 | AI20: =SUM(AI4:AI19) -> 0.014469455 | AJ20: =SUM(AJ4:AJ19) -> 11211.52 | AM20: =MEDIAN(AF4:AF19) -> -0.03725
A22: Air Transport Service
A23: Interglobe Aviation Ltd. | B23: NA | C23: 0.1305 | D23: NA | E23: 0.49 | F23: 0.1305 | G23: =E23-F23 -> 0.3595 | H23: 0.09 | I23: 0.1305 | J23: =H23-I23 -> -0.0405 | K23: 0.55 | L23: 0.1305 | M23: =K23-L23 -> 0.4195 | N23: 0.17 | O23: 0.1305 | P23: =N23-O23 -> 0.0395 | Q23: 0.47 | R23: 0.1305 | S23: =Q23-R23 -> 0.3395 | T23: 0.61 | U23: 0.1305 | V23: =T23-U23 -> 0.4795 | W23: 0.38 | X23: 0.1305 | Y23: =W23-X23 -> 0.2495 | Z23: 0.4 | AA23: 0.1305 | AB23: =Z23-AA23 -> 0.2695 | AC23: 0 | AD23: 0.1305 | AE23: =AC23-AD23 -> -0.1305 | AF23: =AVERAGE(D23,G23,J23,M23,P23,S23,V23,Y23,AB23,AE23) -> 0.22061111 | AG23: 6848.06 | AH23: =AG23/$AG$29 -> 0.78779436 | AI23: =AF23*AH23 -> 0.17379619 | AJ23: 38580.83 | AK23: 0.1 | AL23: NA
A24: SpiceJet Ltd. | B24: 1.24 | C24: 0.1305 | D24: =B24-C24 -> 1.1095 | E24: 0.51 | F24: 0.1305 | G24: =E24-F24 -> 0.3795 | H24: -0.87 | I24: 0.1305 | J24: =H24-I24 -> -1.0005 | K24: -0.06 | L24: 0.1305 | M24: =K24-L24 -> -0.1905 | N24: -0.78 | O24: 0.1305 | P24: =N24-O24 -> -0.9105 | Q24: -2.24 | R24: 0.1305 | S24: =Q24-R24 -> -2.3705 | T24: 19.52 | U24: 0.1305 | V24: =T24-U24 -> 19.3895 | W24: 1.24 | X24: 0.1305 | Y24: =W24-X24 -> 1.1095 | Z24: 0.72 | AA24: 0.1305 | AB24: =Z24-AA24 -> 0.5895 | AC24: -0.12 | AD24: 0.1305 | AE24: =AC24-AD24 -> -0.2505 | AF24: =AVERAGE(D24,G24,J24,M24,P24,S24,V24,Y24,AB24,AE24) -> 1.7855 | AG24: 69.86 | AH24: =AG24/$AG$29 -> 0.0080366284 | AI24: =AF24*AH24 -> 0.0143494 | AJ24: 12257.64 | AK24: NA | AL24: -2.87
A25: Jet Airways (India) Ltd. | B25: 0.03 | C25: 0.1305 | D25: =B25-C25 -> -0.1005 | E25: 0.06 | F25: 0.1305 | G25: =E25-F25 -> -0.0705 | H25: -0.03 | I25: 0.1305 | J25: =H25-I25 -> -0.1605 | K25: 0.02 | L25: 0.1305 | M25: =K25-L25 -> -0.1105 | N25: -0.21 | O25: 0.1305 | P25: =N25-O25 -> -0.3405 | Q25: -0.04 | R25: 0.1305 | S25: =Q25-R25 -> -0.1705 | T25: 0.25 | U25: 0.1305 | V25: =T25-U25 -> 0.1195 | W25: 0.35 | X25: 0.1305 | Y25: =W25-X25 -> 0.2195 | Z25: 0.04 | AA25: 0.1305 | AB25: =Z25-AA25 -> -0.0905 | AC25: NA | AD25: 0.1305 | AE25: NA | AF25: =AVERAGE(D25,G25,J25,M25,P25,S25,V25,Y25,AB25,AE25) -> -0.078277778 | AG25: 1264.02 | AH25: =AG25/$AG$29 -> 0.14541167 | AI25: =AF25*AH25 -> -0.011382502 | AJ25: 13005.81 | AK25: NA | AL25: -26.8
A26: Global Vectra Helicorp Ltd. | B26: 0.06 | C26: 0.1305 | D26: =B26-C26 -> -0.0705 | E26: 0 | F26: 0.1305 | G26: =E26-F26 -> -0.1305 | H26: 0.05 | I26: 0.1305 | J26: =H26-I26 -> -0.0805 | K26: 0.02 | L26: 0.1305 | M26: =K26-L26 -> -0.1105 | N26: 0.11 | O26: 0.1305 | P26: =N26-O26 -> -0.0205 | Q26: 0.21 | R26: 0.1305 | S26: =Q26-R26 -> 0.0795 | T26: 0.19 | U26: 0.1305 | V26: =T26-U26 -> 0.0595 | W26: 0.15 | X26: 0.1305 | Y26: =W26-X26 -> 0.0195 | Z26: 0.08 | AA26: 0.1305 | AB26: =Z26-AA26 -> -0.0505 | AC26: 0.09 | AD26: 0.1305 | AE26: =AC26-AD26 -> -0.0405 | AF26: =AVERAGE(D26,G26,J26,M26,P26,S26,V26,Y26,AB26,AE26) -> -0.0345 | AG26: 449.4 | AH26: =AG26/$AG$29 -> 0.051698552 | AI26: =AF26*AH26 -> -0.0017836 | AJ26: 872.58 | AK26: 5.11 | AL26: 0.41
A27: TAAL Enterprises Ltd. | B27: NA | C27: 0.1305 | D27: NA | E27: NA | F27: 0.1305 | G27: NA | H27: NA | I27: 0.1305 | J27: NA | K27: NA | L27: 0.1305 | M27: NA | N27: NA | O27: 0.1305 | P27: NA | Q27: NA | R27: 0.1305 | S27: NA | T27: -0.0107 | U27: 0.1305 | V27: =T27-U27 -> -0.1412 | W27: -0.2526 | X27: 0.1305 | Y27: =W27-X27 -> -0.3831 | Z27: 0.1093 | AA27: 0.1305 | AB27: =Z27-AA27 -> -0.0212 | AC27: 0.9397 | AD27: 0.1305 | AE27: =AC27-AD27 -> 0.8092 | AF27: =AVERAGE(D27,G27,J27,M27,P27,S27,V27,Y27,AB27,AE27) -> 0.065925 | AG27: 60.25 | AH27: =AG27/$AG$29 -> 0.0069311031 | AI27: =AF27*AH27 -> 0.00045693297 | AJ27: 101.23 | AK27: 0 | AL27: NA
A28: MFL India Ltd. | B28: -0.3158 | C28: 0.1305 | D28: =B28-C28 -> -0.4463 | E28: 0.1964 | F28: 0.1305 | G28: =E28-F28 -> 0.0659 | H28: 0.0752 | I28: 0.1305 | J28: =H28-I28 -> -0.0553 | K28: 0.0557 | L28: 0.1305 | M28: =K28-L28 -> -0.0748 | N28: 0.0704 | O28: 0.1305 | P28: =N28-O28 -> -0.0601 | Q28: 0.0751 | R28: 0.1305 | S28: =Q28-R28 -> -0.0554 | T28: 0.0896 | U28: 0.1305 | V28: =T28-U28 -> -0.0409 | W28: 0.0935 | X28: 0.1305 | Y28: =W28-X28 -> -0.037 | Z28: -0.4294 | AA28: 0.1305 | AB28: =Z28-AA28 -> -0.5599 | AC28: -0.0833 | AD28: 0.1305 | AE28: =AC28-AD28 -> -0.2138 | AF28: =AVERAGE(D28,G28,J28,M28,P28,S28,V28,Y28,AB28,AE28) -> -0.14776 | AG28: 1.11 | AH28: =AG28/$AG$29 -> 0.00012769335 | AI28: =AF28*AH28 -> -1.886797e-05 | AJ28: 7.14 | AK28: NA | AL28: -13.6
AF29: =AVERAGE(AF23:AF28) -> 0.30191639 | AG29: =SUM(AG23:AG28) -> 8692.7 | AI29: =SUM(AI23:AI28) -> 0.17541755 | AJ29: =SUM(AJ23:AJ28) -> 64825.23 | AM29: =MEDIAN(AF23:AF28) -> 0.0157125
A31: Tyres
A32: MRF Ltd. | B32: 0.23 | C32: 0.1305 | D32: =B32-C32 -> 0.0995 | E32: 0.17 | F32: 0.1305 | G32: =E32-F32 -> 0.0395 | H32: 0.23 | I32: 0.1305 | J32: =H32-I32 -> 0.0995 | K32: 0.29 | L32: 0.1305 | M32: =K32-L32 -> 0.1595 | N32: 0.27 | O32: 0.1305 | P32: =N32-O32 -> 0.1395 | Q32: NA | R32: 0.1305 | S32: NA | T32: 0.5 | U32: 0.1305 | V32: =T32-U32 -> 0.3695 | W32: 0.23 | X32: 0.1305 | Y32: =W32-X32 -> 0.0995 | Z32: 0.17 | AA32: 0.1305 | AB32: =Z32-AA32 -> 0.0395 | AC32: 0.14 | AD32: 0.1305 | AE32: =AC32-AD32 -> 0.0095 | AF32: =AVERAGE(D32,G32,J32,M32,P32,S32,V32,Y32,AB32,AE32) -> 0.11727778 | AG32: 13343.66 | AH32: =AG32/$AG$44 -> 0.2643856 | AI32: =AF32*AH32 -> 0.031006555 | AJ32: 18441.2 | AK32: 0.23 | AL32: 23.28
A33: Balkrishna Industries Ltd. | B33: 0.33 | C33: 0.1305 | D33: =B33-C33 -> 0.1995 | E33: 0.23 | F33: 0.1305 | G33: =E33-F33 -> 0.0995 | H33: 0.2 | I33: 0.1305 | J33: =H33-I33 -> 0.0695 | K33: 0.17 | L33: 0.1305 | M33: =K33-L33 -> 0.0395 | N33: 0.18 | O33: 0.1305 | P33: =N33-O33 -> 0.0495 | Q33: 0.17 | R33: 0.1305 | S33: =Q33-R33 -> 0.0395 | T33: 0.15 | U33: 0.1305 | V33: =T33-U33 -> 0.0195 | W33: 0.2 | X33: 0.1305 | Y33: =W33-X33 -> 0.0695 | Z33: 0.22 | AA33: 0.1305 | AB33: =Z33-AA33 -> 0.0895 | AC33: 0.22 | AD33: 0.1305 | AE33: =AC33-AD33 -> 0.0895 | AF33: =AVERAGE(D33,G33,J33,M33,P33,S33,V33,Y33,AB33,AE33) -> 0.0765 | AG33: 5712.88 | AH33: =AG33/$AG$44 -> 0.11319257 | AI33: =AF33*AH33 -> 0.0086592317 | AJ33: 6546.35 | AK33: 0.14 | AL33: 34.66
A34: Apollo Tyres Ltd. | B34: 0.33 | C34: 0.1305 | D34: =B34-C34 -> 0.1995 | E34: 0.17 | F34: 0.1305 | G34: =E34-F34 -> 0.0395 | H34: 0.17 | I34: 0.1305 | J34: =H34-I34 -> 0.0395 | K34: 0.2 | L34: 0.1305 | M34: =K34-L34 -> 0.0695 | N34: 0.26 | O34: 0.1305 | P34: =N34-O34 -> 0.1295 | Q34: 0.26 | R34: 0.1305 | S34: =Q34-R34 -> 0.1295 | T34: 0.23 | U34: 0.1305 | V34: =T34-U34 -> 0.0995 | W34: 0.16 | X34: 0.1305 | Y34: =W34-X34 -> 0.0295 | Z34: 0.09 | AA34: 0.1305 | AB34: =Z34-AA34 -> -0.0405 | AC34: 0.09 | AD34: 0.1305 | AE34: =AC34-AD34 -> -0.0405 | AF34: =AVERAGE(D34,G34,J34,M34,P34,S34,V34,Y34,AB34,AE34) -> 0.0655 | AG34: 16509.9 | AH34: =AG34/$AG$44 -> 0.32712013 | AI34: =AF34*AH34 -> 0.021426368 | AJ34: 23249.99 | AK34: 0.66 | AL34: 3.09
A35: CEAT Ltd. | B35: NA | C35: 0.1305 | D35: NA | E35: 0.1 | F35: 0.1305 | G35: =E35-F35 -> -0.0305 | H35: 0.12 | I35: 0.1305 | J35: =H35-I35 -> -0.0105 | K35: 0.21 | L35: 0.1305 | M35: =K35-L35 -> 0.0795 | N35: 0.3 | O35: 0.1305 | P35: =N35-O35 -> 0.1695 | Q35: 0.27 | R35: 0.1305 | S35: =Q35-R35 -> 0.1395 | T35: 0.27 | U35: 0.1305 | V35: =T35-U35 -> 0.1395 | W35: 0.19 | X35: 0.1305 | Y35: =W35-X35 -> 0.0595 | Z35: 0.15 | AA35: 0.1305 | AB35: =Z35-AA35 -> 0.0195 | AC35: 0.13 | AD35: 0.1305 | AE35: =AC35-AD35 -> -0.0005 | AF35: =AVERAGE(D35,G35,J35,M35,P35,S35,V35,Y35,AB35,AE35) -> 0.062833333 | AG35: 4891.16 | AH35: =AG35/$AG$44 -> 0.096911361 | AI35: =AF35*AH35 -> 0.0060892638 | AJ35: 7352.93 | AK35: 0.68 | AL35: 19.69
A36: Goodyear India Ltd. | B36: 0.47 | C36: 0.1305 | D36: =B36-C36 -> 0.3395 | E36: 0.35 | F36: 0.1305 | G36: =E36-F36 -> 0.2195 | H36: 0.26 | I36: 0.1305 | J36: =H36-I36 -> 0.1295 | K36: 0.37 | L36: 0.1305 | M36: =K36-L36 -> 0.2395 | N36: 0.34 | O36: 0.1305 | P36: =N36-O36 -> 0.2095 | Q36: NA | R36: 0.1305 | S36: NA | T36: 0.34 | U36: 0.1305 | V36: =T36-U36 -> 0.2095 | W36: 0.3 | X36: 0.1305 | Y36: =W36-X36 -> 0.1695 | Z36: 0.27 | AA36: 0.1305 | AB36: =Z36-AA36 -> 0.1395 | AC36: 0.19 | AD36: 0.1305 | AE36: =AC36-AD36 -> 0.0595 | AF36: =AVERAGE(D36,G36,J36,M36,P36,S36,V36,Y36,AB36,AE36) -> 0.19061111 | AG36: 893.52 | AH36: =AG36/$AG$44 -> 0.017703825 | AI36: =AF36*AH36 -> 0.0033745457 | AJ36: 1353.28 | AK36: 0 | AL36: 11.43
A37: JK Tyres & Industries Ltd. | B37: 0.21 | C37: 0.1305 | D37: =B37-C37 -> 0.0795 | E37: 0.11 | F37: 0.1305 | G37: =E37-F37 -> -0.0205 | H37: 0.08 | I37: 0.1305 | J37: =H37-I37 -> -0.0505 | K37: 0.14 | L37: 0.1305 | M37: =K37-L37 -> 0.0095 | N37: 0.16 | O37: 0.1305 | P37: =N37-O37 -> 0.0295 | Q37: 0.18 | R37: 0.1305 | S37: =Q37-R37 -> 0.0495 | T37: 0.22 | U37: 0.1305 | V37: =T37-U37 -> 0.0895 | W37: 0.13 | X37: 0.1305 | Y37: =W37-X37 -> -0.0005 | Z37: 0.07 | AA37: 0.1305 | AB37: =Z37-AA37 -> -0.0605 | AC37: 0.11 | AD37: 0.1305 | AE37: =AC37-AD37 -> -0.0205 | AF37: =AVERAGE(D37,G37,J37,M37,P37,S37,V37,Y37,AB37,AE37) -> 0.0105 | AG37: 7461.16 | AH37: =AG37/$AG$44 -> 0.14783225 | AI37: =AF37*AH37 -> 0.0015522386 | AJ37: 11349.6 | AK37: 2.09 | AL37: 3.98
A38: TVS Srichakra Ltd. | B38: 0.24 | C38: 0.1305 | D38: =B38-C38 -> 0.1095 | E38: 0.28 | F38: 0.1305 | G38: =E38-F38 -> 0.1495 | H38: 0.26 | I38: 0.1305 | J38: =H38-I38 -> 0.1295 | K38: 0.15 | L38: 0.1305 | M38: =K38-L38 -> 0.0195 | N38: 0.22 | O38: 0.1305 | P38: =N38-O38 -> 0.0895 | Q38: 0.35 | R38: 0.1305 | S38: =Q38-R38 -> 0.2195 | T38: 0.55 | U38: 0.1305 | V38: =T38-U38 -> 0.4195 | W38: 0.33 | X38: 0.1305 | Y38: =W38-X38 -> 0.1995 | Z38: 0.22 | AA38: 0.1305 | AB38: =Z38-AA38 -> 0.0895 | AC38: 0.18 | AD38: 0.1305 | AE38: =AC38-AD38 -> 0.0495 | AF38: =AVERAGE(D38,G38,J38,M38,P38,S38,V38,Y38,AB38,AE38) -> 0.1475 | AG38: 1068.08 | AH38: =AG38/$AG$44 -> 0.021162482 | AI38: =AF38*AH38 -> 0.0031214661 | AJ38: 1590.66 | AK38: 0.47 | AL38: 18.14
A39: Modi Rubber Ltd. | B39: -0.1121 | C39: 0.1305 | D39: =B39-C39 -> -0.2426 | E39: -0.1159 | F39: 0.1305 | G39: =E39-F39 -> -0.2464 | H39: NA | I39: 0.1305 | J39: NA | K39: -0.0004 | L39: 0.1305 | M39: =K39-L39 -> -0.1309 | N39: 0.0197 | O39: 0.1305 | P39: =N39-O39 -> -0.1108 | Q39: 0.1055 | R39: 0.1305 | S39: =Q39-R39 -> -0.025 | T39: 0.0616 | U39: 0.1305 | V39: =T39-U39 -> -0.0689 | W39: 0.0578 | X39: 0.1305 | Y39: =W39-X39 -> -0.0727 | Z39: 0.0376 | AA39: 0.1305 | AB39: =Z39-AA39 -> -0.0929 | AC39: 0.016 | AD39: 0.1305 | AE39: =AC39-AD39 -> -0.1145 | AF39: =AVERAGE(D39,G39,J39,M39,P39,S39,V39,Y39,AB39,AE39) -> -0.12274444 | AG39: 419.57 | AH39: =AG39/$AG$44 -> 0.0083131813 | AI39: =AF39*AH39 -> -0.0010203968 | AJ39: 453.4 | AK39: 0.01 | AL39: NA
A40: Dolfin Rubbers Ltd. | B40: NA | C40: 0.1305 | D40: NA | E40: NA | F40: 0.1305 | G40: NA | H40: NA | I40: 0.1305 | J40: NA | K40: NA | L40: 0.1305 | M40: NA | N40: NA | O40: 0.1305 | P40: NA | Q40: NA | R40: 0.1305 | S40: NA | T40: NA | U40: 0.1305 | V40: NA | W40: NA | X40: 0.1305 | Y40: NA | Z40: NA | AA40: 0.1305 | AB40: NA | AC40: 0.21 | AD40: 0.1305 | AE40: =AC40-AD40 -> 0.0795 | AF40: =AVERAGE(D40,G40,J40,M40,P40,S40,V40,Y40,AB40,AE40) -> 0.0795 | AG40: 16.89 | AH40: =AG40/$AG$44 -> 0.00033465127 | AI40: =AF40*AH40 -> 2.6604776e-05 | AJ40: 25.09 | AK40: 0.12 | AL40: NA
A41: Krypton Industries Ltd. | B41: 0.1193 | C41: 0.1305 | D41: =B41-C41 -> -0.0112 | E41: 0.1207 | F41: 0.1305 | G41: =E41-F41 -> -0.0098 | H41: 0.045 | I41: 0.1305 | J41: =H41-I41 -> -0.0855 | K41: 0.0722 | L41: 0.1305 | M41: =K41-L41 -> -0.0583 | N41: 0.0723 | O41: 0.1305 | P41: =N41-O41 -> -0.0582 | Q41: 0.0534 | R41: 0.1305 | S41: =Q41-R41 -> -0.0771 | T41: 0.0558 | U41: 0.1305 | V41: =T41-U41 -> -0.0747 | W41: -0.0395 | X41: 0.1305 | Y41: =W41-X41 -> -0.17 | Z41: 0.0463 | AA41: 0.1305 | AB41: =Z41-AA41 -> -0.0842 | AC41: 0.0636 | AD41: 0.1305 | AE41: =AC41-AD41 -> -0.0669 | AF41: =AVERAGE(D41,G41,J41,M41,P41,S41,V41,Y41,AB41,AE41) -> -0.06959 | AG41: 41.63 | AH41: =AG41/$AG$44 -> 0.00082483909 | AI41: =AF41*AH41 -> -5.7400552e-05 | AJ41: 47.27 | AK41: 0.53 | AL41: -10.92
A42: Innovative Tyres & Tubes Ltd. | B42: NA | C42: 0.1305 | D42: NA | E42: NA | F42: 0.1305 | G42: NA | H42: NA | I42: 0.1305 | J42: NA | K42: NA | L42: 0.1305 | M42: NA | N42: 0.15 | O42: 0.1305 | P42: =N42-O42 -> 0.0195 | Q42: 0.17 | R42: 0.1305 | S42: =Q42-R42 -> 0.0395 | T42: 0.15 | U42: 0.1305 | V42: =T42-U42 -> 0.0195 | W42: 0.16 | X42: 0.1305 | Y42: =W42-X42 -> 0.0295 | Z42: 0.11 | AA42: 0.1305 | AB42: =Z42-AA42 -> -0.0205 | AC42: 0.02 | AD42: 0.1305 | AE42: =AC42-AD42 -> -0.1105 | AF42: =AVERAGE(D42,G42,J42,M42,P42,S42,V42,Y42,AB42,AE42) -> -0.0038333333 | AG42: 108.79 | AH42: =AG42/$AG$44 -> 0.0021555187 | AI42: =AF42*AH42 -> -8.2628218e-06 | AJ42: 178.11 | AK42: 0.26 | AL42: NA
...

Sheet Data Sheet 2
A1: Industry/Companies | B1: 2010 | E1: 2011 | H1: 2012 | K1: 2013 | N1: 2014 | Q1: 2015 | T1: 2016 | W1: 2017 | Z1: 2018 | AC1: 2019 | AF1: Average | AG1: Total Capital | AH1: Weight | AI1: Weighted Average | AJ1: Total Assets | AK1: Debt-to-Equity Ratio | AL1: 10-Year Returns | AM1: Median
B2: RoCE | C2: CoC | D2: RoCE - CoC | E2: RoCE | F2: CoC | G2: RoCE - CoC | H2: RoCE | I2: CoC | J2: RoCE - CoC | K2: RoCE | L2: CoC | M2: RoCE - CoC | N2: RoCE | O2: CoC | P2: RoCE - CoC | Q2: RoCE | R2: CoC | S2: RoCE - CoC | T2: RoCE | U2: CoC | V2: RoCE - CoC | W2: RoCE | X2: CoC | Y2: RoCE - CoC | Z2: RoCE | AA2: CoC | AB2: RoCE - CoC | AC2: RoCE | AD2: CoC | AE2: RoCE - CoC
A3: Auto Ancilliaries
A4: Bosch Ltd | B4: 0.3 | C4: 0.1305 | D4: =B4-C4 -> 0.1695 | E4: 0.32 | F4: 0.1305 | G4: =E4-F4 -> 0.1895 | H4: 0.23 | I4: 0.1305 | J4: =H4-I4 -> 0.0995 | K4: 0.19 | L4: 0.1305 | M4: =K4-L4 -> 0.0595 | N4: NA | O4: 0.1305 | P4: NA | Q4: 0.26 | R4: 0.1305 | S4: =Q4-R4 -> 0.1295 | T4: 0.22 | U4: 0.1305 | V4: =T4-U4 -> 0.0895 | W4: 0.26 | X4: 0.1305 | Y4: =W4-X4 -> 0.1295 | Z4: 0.23 | AA4: 0.1305 | AB4: =Z4-AA4 -> 0.0995 | AC4: 0.25 | AD4: 0.1305 | AE4: =AC4-AD4 -> 0.1195 | AF4: =AVERAGE(D4,G4,J4,M4,P4,S4,V4,Y4,AB4,AE4) -> 0.12061111 | AG4: 9343.26 | AH4: =AG4/$AG$103 -> 0.086576198 | AI4: =AF4*AH4 -> 0.010442051 | AJ4: 13320.04 | AK4: 0.01 | AL4: 6.99
A5: Motherson Sumi Systems Ltd | B5: 0.23 | C5: 0.1305 | D5: =B5-C5 -> 0.0995 | E5: 0.28 | F5: 0.1305 | G5: =E5-F5 -> 0.1495 | H5: 0.12 | I5: 0.1305 | J5: =H5-I5 -> -0.0105 | K5: 0.16 | L5: 0.1305 | M5: =K5-L5 -> 0.0295 | N5: 0.25 | O5: 0.1305 | P5: =N5-O5 -> 0.1195 | Q5: 0.28 | R5: 0.1305 | S5: =Q5-R5 -> 0.1495 | T5: 0.28 | U5: 0.1305 | V5: =T5-U5 -> 0.1495 | W5: 0.24 | X5: 0.1305 | Y5: =W5-X5 -> 0.1095 | Z5: 0.2 | AA5: 0.1305 | AB5: =Z5-AA5 -> 0.0695 | AC5: 0.17 | AD5: 0.1305 | AE5: =AC5-AD5 -> 0.0395 | AF5: =AVERAGE(D5,G5,J5,M5,P5,S5,V5,Y5,AB5,AE5) -> 0.0905 | AG5: 23466.62 | AH5: =AG5/$AG$103 -> 0.2174456 | AI5: =AF5*AH5 -> 0.019678826 | AJ5: 43590.42 | AK5: 1.13 | AL5: 17.72
A6: WABCO India Ltd | B6: 0.45 | C6: 0.1305 | D6: =B6-C6 -> 0.3195 | E6: 0.57 | F6: 0.1305 | G6: =E6-F6 -> 0.4395 | H6: 0.47 | I6: 0.1305 | J6: =H6-I6 -> 0.3395 | K6: 0.31 | L6: 0.1305 | M6: =K6-L6 -> 0.1795 | N6: 0.23 | O6: 0.1305 | P6: =N6-O6 -> 0.0995 | Q6: 0.21 | R6: 0.1305 | S6: =Q6-R6 -> 0.0795 | T6: 0.27 | U6: 0.1305 | V6: =T6-U6 -> 0.1395 | W6: 0.24 | X6: 0.1305 | Y6: =W6-X6 -> 0.1095 | Z6: 0.26 | AA6: 0.1305 | AB6: =Z6-AA6 -> 0.1295 | AC6: 0.23 | AD6: 0.1305 | AE6: =AC6-AD6 -> 0.0995 | AF6: =AVERAGE(D6,G6,J6,M6,P6,S6,V6,Y6,AB6,AE6) -> 0.1935 | AG6: 1894.54 | AH6: =AG6/$AG$103 -> 0.017555122 | AI6: =AF6*AH6 -> 0.0033969161 | AJ6: 2180.7 | AK6: 0 | AL6: 25.37
A7: Exide Industries Ltd | B7: 0.52 | C7: 0.1305 | D7: =B7-C7 -> 0.3895 | E7: 0.4 | F7: 0.1305 | G7: =E7-F7 -> 0.2695 | H7: 0.26 | I7: 0.1305 | J7: =H7-I7 -> 0.1295 | K7: 0.27 | L7: 0.1305 | M7: =K7-L7 -> 0.1395 | N7: 0.24 | O7: 0.1305 | P7: =N7-O7 -> 0.1095 | Q7: 0.23 | R7: 0.1305 | S7: =Q7-R7 -> 0.0995 | T7: 0.26 | U7: 0.1305 | V7: =T7-U7 -> 0.1295 | W7: 0.26 | X7: 0.1305 | Y7: =W7-X7 -> 0.1295 | Z7: 0.23 | AA7: 0.1305 | AB7: =Z7-AA7 -> 0.0995 | AC7: 0.22 | AD7: 0.1305 | AE7: =AC7-AD7 -> 0.0895 | AF7: =AVERAGE(D7,G7,J7,M7,P7,S7,V7,Y7,AB7,AE7) -> 0.1585 | AG7: 6687.35 | AH7: =AG7/$AG$103 -> 0.061966095 | AI7: =AF7*AH7 -> 0.0098216261 | AJ7: 23802.61 | AK7: 0.03 | AL7: 3.09
A8: Amara Raja Batteries Ltd | B8: 0.38 | C8: 0.1305 | D8: =B8-C8 -> 0.2495 | E8: 0.32 | F8: 0.1305 | G8: =E8-F8 -> 0.1895 | H8: 0.39 | I8: 0.1305 | J8: =H8-I8 -> 0.2595 | K8: 0.42 | L8: 0.1305 | M8: =K8-L8 -> 0.2895 | N8: 0.42 | O8: 0.1305 | P8: =N8-O8 -> 0.2895 | Q8: 0.38 | R8: 0.1305 | S8: =Q8-R8 -> 0.2495 | T8: 0.36 | U8: 0.1305 | V8: =T8-U8 -> 0.2295 | W8: 0.29 | X8: 0.1305 | Y8: =W8-X8 -> 0.1595 | Z8: 0.25 | AA8: 0.1305 | AB8: =Z8-AA8 -> 0.1195 | AC8: 0.23 | AD8: 0.1305 | AE8: =AC8-AD8 -> 0.0995 | AF8: =AVERAGE(D8,G8,J8,M8,P8,S8,V8,Y8,AB8,AE8) -> 0.2135 | AG8: 3727.05 | AH8: =AG8/$AG$103 -> 0.034535464 | AI8: =AF8*AH8 -> 0.0073733215 | AJ8: 5000.59 | AK8: 0.02 | AL8: 22.6
A9: Endurance Technologies Ltd | B9: NA | C9: 0.1305 | D9: NA | E9: 0.2 | F9: 0.1305 | G9: =E9-F9 -> 0.0695 | H9: 0.22 | I9: 0.1305 | J9: =H9-I9 -> 0.0895 | K9: 0.2 | L9: 0.1305 | M9: =K9-L9 -> 0.0695 | N9: 0.21 | O9: 0.1305 | P9: =N9-O9 -> 0.0795 | Q9: 0.22 | R9: 0.1305 | S9: =Q9-R9 -> 0.0895 | T9: 0.22 | U9: 0.1305 | V9: =T9-U9 -> 0.0895 | W9: 0.21 | X9: 0.1305 | Y9: =W9-X9 -> 0.0795 | Z9: 0.23 | AA9: 0.1305 | AB9: =Z9-AA9 -> 0.0995 | AC9: 0.25 | AD9: 0.1305 | AE9: =AC9-AD9 -> 0.1195 | AF9: =AVERAGE(D9,G9,J9,M9,P9,S9,V9,Y9,AB9,AE9) -> 0.087277778 | AG9: 3238.57 | AH9: =AG9/$AG$103 -> 0.030009127 | AI9: =AF9*AH9 -> 0.0026191299 | AJ9: 4860.71 | AK9: 0.16 | AL9: NA
A10: Minda Industries Ltd | B10: 0.17 | C10: 0.1305 | D10: =B10-C10 -> 0.0395 | E10: 0.19 | F10: 0.1305 | G10: =E10-F10 -> 0.0595 | H10: 0.07 | I10: 0.1305 | J10: =H10-I10 -> -0.0605 | K10: 0.11 | L10: 0.1305 | M10: =K10-L10 -> -0.0205 | N10: 0.06 | O10: 0.1305 | P10: =N10-O10 -> -0.0705 | Q10: 0.14 | R10: 0.1305 | S10: =Q10-R10 -> 0.0095 | T10: 0.21 | U10: 0.1305 | V10: =T10-U10 -> 0.0795 | W10: 0.23 | X10: 0.1305 | Y10: =W10-X10 -> 0.0995 | Z10: 0.25 | AA10: 0.1305 | AB10: =Z10-AA10 -> 0.1195 | AC10: 0.22 | AD10: 0.1305 | AE10: =AC10-AD10 -> 0.0895 | AF10: =AVERAGE(D10,G10,J10,M10,P10,S10,V10,Y10,AB10,AE10) -> 0.0345 | AG10: 2795.22 | AH10: =AG10/$AG$103 -> 0.025900972 | AI10: =AF10*AH10 -> 0.00089358355 | AJ10: 4334.3 | AK10: 0.57 | AL10: 31.78
A11: Timken India Ltd | B11: 0.2 | C11: 0.1305 | D11: =B11-C11 -> 0.0695 | E11: NA | F11: 0.1305 | G11: NA | H11: 0.3 | I11: 0.1305 | J11: =H11-I11 -> 0.1695 | K11: 0.19 | L11: 0.1305 | M11: =K11-L11 -> 0.0595 | N11: 0.19 | O11: 0.1305 | P11: =N11-O11 -> 0.0595 | Q11: 0.3 | R11: 0.1305 | S11: =Q11-R11 -> 0.1695 | T11: 0.3 | U11: 0.1305 | V11: =T11-U11 -> 0.1695 | W11: 0.24 | X11: 0.1305 | Y11: =W11-X11 -> 0.1095 | Z11: 0.21 | AA11: 0.1305 | AB11: =Z11-AA11 -> 0.0795 | AC11: 0.22 | AD11: 0.1305 | AE11: =AC11-AD11 -> 0.0895 | AF11: =AVERAGE(D11,G11,J11,M11,P11,S11,V11,Y11,AB11,AE11) -> 0.10838889 | AG11: 1457.44 | AH11: =AG11/$AG$103 -> 0.013504881 | AI11: =AF11*AH11 -> 0.001463779 | AJ11: 1875.43 | AK11: 0.02 | AL11: 22.16
A12: Sundaram Clayton Ltd | B12: 0 | C12: 0.1305 | D12: =B12-C12 -> -0.1305 | E12: 0.13 | F12: 0.1305 | G12: =E12-F12 -> -0.0005 | H12: 0.17 | I12: 0.1305 | J12: =H12-I12 -> 0.0395 | K12: 0.14 | L12: 0.1305 | M12: =K12-L12 -> 0.0095 | N12: 0.17 | O12: 0.1305 | P12: =N12-O12 -> 0.0395 | Q12: 0.21 | R12: 0.1305 | S12: =Q12-R12 -> 0.0795 | T12: 0.24 | U12: 0.1305 | V12: =T12-U12 -> 0.1095 | W12: 0.25 | X12: 0.1305 | Y12: =W12-X12 -> 0.1195 | Z12: 0.19 | AA12: 0.1305 | AB12: =Z12-AA12 -> 0.0595 | AC12: 0.17 | AD12: 0.1305 | AE12: =AC12-AD12 -> 0.0395 | AF12: =AVERAGE(D12,G12,J12,M12,P12,S12,V12,Y12,AB12,AE12) -> 0.0365 | AG12: 12262.57 | AH12: =AG12/$AG$103 -> 0.11362701 | AI12: =AF12*AH12 -> 0.0041473858 | AJ12: 20612.1 | AK12: 3.98 | AL12: 20.51
A13: Federal-Mogul Goetze (India) Ltd | B13: 0.2 | C13: 0.1305 | D13: =B13-C13 -> 0.0695 | E13: 0.19 | F13: 0.1305 | G13: =E13-F13 -> 0.0595 | H13: 0.09 | I13: 0.1305 | J13: =H13-I13 -> -0.0405 | K13: 0.14 | L13: 0.1305 | M13: =K13-L13 -> 0.0095 | N13: NA | O13: 0.1305 | P13: NA | Q13: 0.18 | R13: 0.1305 | S13: =Q13-R13 -> 0.0495 | T13: 0.18 | U13: 0.1305 | V13: =T13-U13 -> 0.0495 | W13: 0.21 | X13: 0.1305 | Y13: =W13-X13 -> 0.0795 | Z13: 0.23 | AA13: 0.1305 | AB13: =Z13-AA13 -> 0.0995 | AC13: 0.2 | AD13: 0.1305 | AE13: =AC13-AD13 -> 0.0695 | AF13: =AVERAGE(D13,G13,J13,M13,P13,S13,V13,Y13,AB13,AE13) -> 0.0495 | AG13: 815.75 | AH13: =AG13/$AG$103 -> 0.0075588749 | AI13: =AF13*AH13 -> 0.00037416431 | AJ13: 1183.66 | AK13: 0 | AL13: 14.81
A14: Varroc Engineering Ltd | B14: NA | C14: 0.1305 | D14: NA | E14: NA | F14: 0.1305 | G14: NA | H14: NA | I14: 0.1305 | J14: NA | K14: NA | L14: 0.1305 | M14: NA | N14: 0.07 | O14: 0.1305 | P14: =N14-O14 -> -0.0605 | Q14: 0.07 | R14: 0.1305 | S14: =Q14-R14 -> -0.0605 | T14: 0.11 | U14: 0.1305 | V14: =T14-U14 -> -0.0205 | W14: 0.12 | X14: 0.1305 | Y14: =W14-X14 -> -0.0105 | Z14: 0.16 | AA14: 0.1305 | AB14: =Z14-AA14 -> 0.0295 | AC14: 0.13 | AD14: 0.1305 | AE14: =AC14-AD14 -> -0.0005 | AF14: =AVERAGE(D14,G14,J14,M14,P14,S14,V14,Y14,AB14,AE14) -> -0.0205 | AG14: 5689.12 | AH14: =AG14/$AG$103 -> 0.05271633 | AI14: =AF14*AH14 -> -0.0010806848 | AJ14: 9514.88 | AK14: 0.81 | AL14: NA
A15: Suprajit Engineering Ltd | B15: 0.32 | C15: 0.1305 | D15: =B15-C15 -> 0.1895 | E15: 0.36 | F15: 0.1305 | G15: =E15-F15 -> 0.2295 | H15: 0.34 | I15: 0.1305 | J15: =H15-I15 -> 0.2095 | K15: 0.29 | L15: 0.1305 | M15: =K15-L15 -> 0.1595 | N15: 0.27 | O15: 0.1305 | P15: =N15-O15 -> 0.1395 | Q15: 0.23 | R15: 0.1305 | S15: =Q15-R15 -> 0.0995 | T15: 0.25 | U15: 0.1305 | V15: =T15-U15 -> 0.1195 | W15: 0.24 | X15: 0.1305 | Y15: =W15-X15 -> 0.1095 | Z15: 0.23 | AA15: 0.1305 | AB15: =Z15-AA15 -> 0.0995 | AC15: 0.22 | AD15: 0.1305 | AE15: =AC15-AD15 -> 0.0895 | AF15: =AVERAGE(D15,G15,J15,M15,P15,S15,V15,Y15,AB15,AE15) -> 0.1445 | AG15: 1160.6 | AH15: =AG15/$AG$103 -> 0.010754312 | AI15: =AF15*AH15 -> 0.0015539981 | AJ15: 1535.2 | AK15: 0.39 | AL15: 20.73
A16: Minda Corporation Ltd | B16: 0.12 | C16: 0.1305 | D16: =B16-C16 -> -0.0105 | E16: 0.16 | F16: 0.1305 | G16: =E16-F16 -> 0.0295 | H16: 0.16 | I16: 0.1305 | J16: =H16-I16 -> 0.0295 | K16: 0.08 | L16: 0.1305 | M16: =K16-L16 -> -0.0505 | N16: 0.12 | O16: 0.1305 | P16: =N16-O16 -> -0.0105 | Q16: 0.16 | R16: 0.1305 | S16: =Q16-R16 -> 0.0295 | T16: 0.17 | U16: 0.1305 | V16: =T16-U16 -> 0.0395 | W16: 0.13 | X16: 0.1305 | Y16: =W16-X16 -> -0.0005 | Z16: 0.18 | AA16: 0.1305 | AB16: =Z16-AA16 -> 0.0495 | AC16: 0.16 | AD16: 0.1305 | AE16: =AC16-AD16 -> 0.0295 | AF16: =AVERAGE(D16,G16,J16,M16,P16,S16,V16,Y16,AB16,AE16) -> 0.0135 | AG16: 1803.01 | AH16: =AG16/$AG$103 -> 0.01670699 | AI16: =AF16*AH16 -> 0.00022554436 | AJ16: 2451.09 | AK16: 0.46 | AL16: NA
A17: Shriram Pistons & Rings Ltd | B17: 0.25 | C17: 0.1305 | D17: =B17-C17 -> 0.1195 | E17: 0.24 | F17: 0.1305 | G17: =E17-F17 -> 0.1095 | H17: 0.19 | I17: 0.1305 | J17: =H17-I17 -> 0.0595 | K17: 0.12 | L17: 0.1305 | M17: =K17-L17 -> -0.0105 | N17: 0.15 | O17: 0.1305 | P17: =N17-O17 -> 0.0195 | Q17: 0.12 | R17: 0.1305 | S17: =Q17-R17 -> -0.0105 | T17: 0.16 | U17: 0.1305 | V17: =T17-U17 -> 0.0295 | W17: 0.19 | X17: 0.1305 | Y17: =W17-X17 -> 0.0595 | Z17: 0.21 | AA17: 0.1305 | AB17: =Z17-AA17 -> 0.0795 | AC17: 0.2 | AD17: 0.1305 | AE17: =AC17-AD17 -> 0.0695 | AF17: =AVERAGE(D17,G17,J17,M17,P17,S17,V17,Y17,AB17,AE17) -> 0.0525 | AG17: 1095.14 | AH17: =AG17/$AG$103 -> 0.010147749 | AI17: =AF17*AH17 -> 0.00053275682 | AJ17: 1563.39 | AK17: 0.04 | AL17: NA
A18: JTEKT India Ltd | B18: 0.13 | C18: 0.1305 | D18: =B18-C18 -> -0.0005 | E18: 0.21 | F18: 0.1305 | G18: =E18-F18 -> 0.0795 | H18: 0.23 | I18: 0.1305 | J18: =H18-I18 -> 0.0995 | K18: 0.18 | L18: 0.1305 | M18: =K18-L18 -> 0.0495 | N18: 0.17 | O18: 0.1305 | P18: =N18-O18 -> 0.0395 | Q18: 0.18 | R18: 0.1305 | S18: =Q18-R18 -> 0.0495 | T18: 0.16 | U18: 0.1305 | V18: =T18-U18 -> 0.0295 | W18: 0.13 | X18: 0.1305 | Y18: =W18-X18 -> -0.0005 | Z18: 0.18 | AA18: 0.1305 | AB18: =Z18-AA18 -> 0.0495 | AC18: 0.18 | AD18: 0.1305 | AE18: =AC18-AD18 -> 0.0495 | AF18: =AVERAGE(D18,G18,J18,M18,P18,S18,V18,Y18,AB18,AE18) -> 0.0445 | AG18: 658.43 | AH18: =AG18/$AG$103 -> 0.0061011217 | AI18: =AF18*AH18 -> 0.00027149991 | AJ18: 932.36 | AK18: 0.17 | AL18: 10.24
A19: Gabriel India Ltd | B19: 0.17 | C19: 0.1305 | D19: =B19-C19 -> 0.0395 | E19: 0.24 | F19: 0.1305 | G19: =E19-F19 -> 0.1095 | H19: 0.21 | I19: 0.1305 | J19: =H19-I19 -> 0.0795 | K19: 0.17 | L19: 0.1305 | M19: =K19-L19 -> 0.0395 | N19: 0.2 | O19: 0.1305 | P19: =N19-O19 -> 0.0695 | Q19: 0.26 | R19: 0.1305 | S19: =Q19-R19 -> 0.1295 | T19: 0.27 | U19: 0.1305 | V19: =T19-U19 -> 0.1395 | W19: 0.28 | X19: 0.1305 | Y19: =W19-X19 -> 0.1495 | Z19: 0.28 | AA19: 0.1305 | AB19: =Z19-AA19 -> 0.1495 | AC19: 0.26 | AD19: 0.1305 | AE19: =AC19-AD19 -> 0.1295 | AF19: =AVERAGE(D19,G19,J19,M19,P19,S19,V19,Y19,AB19,AE19) -> 0.1035 | AG19: 659.6 | AH19: =AG19/$AG$103 -> 0.0061119631 | AI19: =AF19*AH19 -> 0.00063258818 | AJ19: 973.3 | AK19: 0.01 | AL19: 10.44
A20: Subros Ltd | B20: 0.16 | C20: 0.1305 | D20: =B20-C20 -> 0.0295 | E20: 0.12 | F20: 0.1305 | G20: =E20-F20 -> -0.0105 | H20: 0.1 | I20: 0.1305 | J20: =H20-I20 -> -0.0305 | K20: 0.1 | L20: 0.1305 | M20: =K20-L20 -> -0.0305 | N20: 0.08 | O20: 0.1305 | P20: =N20-O20 -> -0.0505 | Q20: 0.08 | R20: 0.1305 | S20: =Q20-R20 -> -0.0505 | T20: 0.09 | U20: 0.1305 | V20: =T20-U20 -> -0.0405 | W20: 0.12 | X20: 0.1305 | Y20: =W20-X20 -> -0.0105 | Z20: 0.16 | AA20: 0.1305 | AB20: =Z20-AA20 -> 0.0295 | AC20: 0.19 | AD20: 0.1305 | AE20: =AC20-AD20 -> 0.0595 | AF20: =AVERAGE(D20,G20,J20,M20,P20,S20,V20,Y20,AB20,AE20) -> -0.0105 | AG20: 911.2 | AH20: =AG20/$AG$103 -> 0.0084433304 | AI20: =AF20*AH20 -> -8.865497e-05 | AJ20: 1421.93 | AK20: 0.26 | AL20: 15.36
A21: Jamna Auto Industries Ltd | B21: 0.23 | C21: 0.1305 | D21: =B21-C21 -> 0.0995 | E21: 0.32 | F21: 0.1305 | G21: =E21-F21 -> 0.1895 | H21: 0.24 | I21: 0.1305 | J21: =H21-I21 -> 0.1095 | K21: 0.17 | L21: 0.1305 | M21: =K21-L21 -> 0.0395 | N21: 0.08 | O21: 0.1305 | P21: =N21-O21 -> -0.0505 | Q21: 0.23 | R21: 0.1305 | S21: =Q21-R21 -> 0.0995 | T21: 0.49 | U21: 0.1305 | V21: =T21-U21 -> 0.3595 | W21: 0.48 | X21: 0.1305 | Y21: =W21-X21 -> 0.3495 | Z21: 0.46 | AA21: 0.1305 | AB21: =Z21-AA21 -> 0.3295 | AC21: 0.49 | AD21: 0.1305 | AE21: =AC21-AD21 -> 0.3595 | AF21: =AVERAGE(D21,G21,J21,M21,P21,S21,V21,Y21,AB21,AE21) -> 0.1885 | AG21: 731.97 | AH21: =AG21/$AG$103 -> 0.0067825555 | AI21: =AF21*AH21 -> 0.0012785117 | AJ21: 930.74 | AK21: 0.42 | AL21: 11.94
A22: Wheels India Ltd | B22: 0.1 | C22: 0.1305 | D22: =B22-C22 -> -0.0305 | E22: 0.15 | F22: 0.1305 | G22: =E22-F22 -> 0.0195 | H22: 0.21 | I22: 0.1305 | J22: =H22-I22 -> 0.0795 | K22: 0.15 | L22: 0.1305 | M22: =K22-L22 -> 0.0195 | N22: 0.14 | O22: 0.1305 | P22: =N22-O22 -> 0.0095 | Q22: 0.13 | R22: 0.1305 | S22: =Q22-R22 -> -0.0005 | T22: 0.14 | U22: 0.1305 | V22: =T22-U22 -> 0.0095 | W22: 0.15 | X22: 0.1305 | Y22: =W22-X22 -> 0.0195 | Z22: 0.15 | AA22: 0.1305 | AB22: =Z22-AA22 -> 0.0195 | AC22: 0.17 | AD22: 0.1305 | AE22: =AC22-AD22 -> 0.0395 | AF22: =AVERAGE(D22,G22,J22,M22,P22,S22,V22,Y22,AB22,AE22) -> 0.0185 | AG22: 1025.43 | AH22: =AG22/$AG$103 -> 0.0095018046 | AI22: =AF22*AH22 -> 0.00017578338 | AJ22: 1791.1 | AK22: 0.73 | AL22: 17.83
A23: Sandhar Technologies Limited | B23: NA | C23: 0.1305 | D23: NA | E23: NA | F23: 0.1305 | G23: NA | H23: NA | I23: 0.1305 | J23: NA | K23: NA | L23: 0.1305 | M23: NA | N23: NA | O23: 0.1305 | P23: NA | Q23: 0.18 | R23: 0.1305 | S23: =Q23-R23 -> 0.0495 | T23: 0.14 | U23: 0.1305 | V23: =T23-U23 -> 0.0095 | W23: 0.13 | X23: 0.1305 | Y23: =W23-X23 -> -0.0005 | Z23: 0.15 | AA23: 0.1305 | AB23: =Z23-AA23 -> 0.0195 | AC23: 0.16 | AD23: 0.1305 | AE23: =AC23-AD23 -> 0.0295 | AF23: =AVERAGE(D23,G23,J23,M23,P23,S23,V23,Y23,AB23,AE23) -> 0.0215 | AG23: 1044.53 | AH23: =AG23/$AG$103 -> 0.0096787884 | AI23: =AF23*AH23 -> 0.00020809395 | AJ23: 1445.08 | AK23: 0.42 | AL23: NA
A24: Lumax Industries Ltd | B24: 0.07 | C24: 0.1305 | D24: =B24-C24 -> -0.0605 | E24: 0.16 | F24: 0.1305 | G24: =E24-F24 -> 0.0295 | H24: 0.09 | I24: 0.1305 | J24: =H24-I24 -> -0.0405 | K24: 0.1 | L24: 0.1305 | M24: =K24-L24 -> -0.0305 | N24: 0.06 | O24: 0.1305 | P24: =N24-O24 -> -0.0705 | Q24: 0.09 | R24: 0.1305 | S24: =Q24-R24 -> -0.0405 | T24: 0.16 | U24: 0.1305 | V24: =T24-U24 -> 0.0295 | W24: 0.19 | X24: 0.1305 | Y24: =W24-X24 -> 0.0595 | Z24: 0.24 | AA24: 0.1305 | AB24: =Z24-AA24 -> 0.1095 | AC24: 0.22 | AD24: 0.1305 | AE24: =AC24-AD24 -> 0.0895 | AF24: =AVERAGE(D24,G24,J24,M24,P24,S24,V24,Y24,AB24,AE24) -> 0.0075 | AG24: 605.16 | AH24: =AG24/$AG$103 -> 0.005607513 | AI24: =AF24*AH24 -> 4.2056348e-05 | AJ24: 1164.52 | AK24: 0.66 | AL24: 16.46
A25: JBM Auto Ltd | B25: 0.1 | C25: 0.1305 | D25: =B25-C25 -> -0.0305 | E25: 0.15 | F25: 0.1305 | G25: =E25-F25 -> 0.0195 | H25: 0.18 | I25: 0.1305 | J25: =H25-I25 -> 0.0495 | K25: 0.2 | L25: 0.1305 | M25: =K25-L25 -> 0.0695 | N25: 0.22 | O25: 0.1305 | P25: =N25-O25 -> 0.0895 | Q25: 0.23 | R25: 0.1305 | S25: =Q25-R25 -> 0.0995 | T25: 0.16 | U25: 0.1305 | V25: =T25-U25 -> 0.0295 | W25: 0.16 | X25: 0.1305 | Y25: =W25-X25 -> 0.0295 | Z25: 0.18 | AA25: 0.1305 | AB25: =Z25-AA25 -> 0.0495 | AC25: 0.18 | AD25: 0.1305 | AE25: =AC25-AD25 -> 0.0495 | AF25: =AVERAGE(D25,G25,J25,M25,P25,S25,V25,Y25,AB25,AE25) -> 0.0455 | AG25: 971.34 | AH25: =AG25/$AG$103 -> 0.0090005977 | AI25: =AF25*AH25 -> 0.00040952719 | AJ25: 1568.03 | AK25: 0.88 | AL25: 25.18
A26: Automotive Axles Ltd | B26: 0.28 | C26: 0.1305 | D26: =B26-C26 -> 0.1495 | E26: 0.32 | F26: 0.1305 | G26: =E26-F26 -> 0.1895 | H26: 0.24 | I26: 0.1305 | J26: =H26-I26 -> 0.1095 | K26: 0.08 | L26: 0.1305 | M26: =K26-L26 -> -0.0505 | N26: 0.09 | O26: 0.1305 | P26: =N26-O26 -> -0.0405 | Q26: 0.06 | R26: 0.1305 | S26: =Q26-R26 -> -0.0705 | T26: 0.16 | U26: 0.1305 | V26: =T26-U26 -> 0.0295 | W26: 0.21 | X26: 0.1305 | Y26: =W26-X26 -> 0.0795 | Z26: 0.31 | AA26: 0.1305 | AB26: =Z26-AA26 -> 0.1795 | AC26: 0.35 | AD26: 0.1305 | AE26: =AC26-AD26 -> 0.2195 | AF26: =AVERAGE(D26,G26,J26,M26,P26,S26,V26,Y26,AB26,AE26) -> 0.0795 | AG26: 563.09 | AH26: =AG26/$AG$103 -> 0.0052176854 | AI26: =AF26*AH26 -> 0.00041480599 | AJ26: 728.49 | AK26: 0.06 | AL26: 3.01
A27: Igarashi Motors India Ltd | B27: 0.12 | C27: 0.1305 | D27: =B27-C27 -> -0.0105 | E27: 0.16 | F27: 0.1305 | G27: =E27-F27 -> 0.0295 | H27: 0.2 | I27: 0.1305 | J27: =H27-I27 -> 0.0695 | K27: 0.22 | L27: 0.1305 | M27: =K27-L27 -> 0.0895 | N27: 0.27 | O27: 0.1305 | P27: =N27-O27 -> 0.1395 | Q27: 0.27 | R27: 0.1305 | S27: =Q27-R27 -> 0.1395 | T27: 0.32 | U27: 0.1305 | V27: =T27-U27 -> 0.1895 | W27: 0.32 | X27: 0.1305 | Y27: =W27-X27 -> 0.1895 | Z27: 0.33 | AA27: 0.1305 | AB27: =Z27-AA27 -> 0.1995 | AC27: 0.19 | AD27: 0.1305 | AE27: =AC27-AD27 -> 0.0595 | AF27: =AVERAGE(D27,G27,J27,M27,P27,S27,V27,Y27,AB27,AE27) -> 0.1095 | AG27: 479.35 | AH27: =AG27/$AG$103 -> 0.0044417367 | AI27: =AF27*AH27 -> 0.00048637016 | AJ27: 686.53 | AK27: 0.14 | AL27: 15.53
A28: Shanthi Gears Ltd | B28: 0.11 | C28: 0.1305 | D28: =B28-C28 -> -0.0205 | E28: 0.19 | F28: 0.1305 | G28: =E28-F28 -> 0.0595 | H28: 0.17 | I28: 0.1305 | J28: =H28-I28 -> 0.0395 | K28: 0.08 | L28: 0.1305 | M28: =K28-L28 -> -0.0505 | N28: 0.1 | O28: 0.1305 | P28: =N28-O28 -> -0.0305 | Q28: 0.05 | R28: 0.1305 | S28: =Q28-R28 -> -0.0805 | T28: 0.08 | U28: 0.1305 | V28: =T28-U28 -> -0.0505 | W28: 0.1 | X28: 0.1305 | Y28: =W28-X28 -> -0.0305 | Z28: 0.1 | AA28: 0.1305 | AB28: =Z28-AA28 -> -0.0305 | AC28: 0.13 | AD28: 0.1305 | AE28: =AC28-AD28 -> -0.0005 | AF28: =AVERAGE(D28,G28,J28,M28,P28,S28,V28,Y28,AB28,AE28) -> -0.0195 | AG28: 228.62 | AH28: =AG28/$AG$103 -> 0.0021184309 | AI28: =AF28*AH28 -> -4.1309402e-05 | AJ28: 283.03 | AK28: 0 | AL28: 7.12
A29: L G Balakrishnan & Bros Ltd | B29: 0.2 | C29: 0.1305 | D29: =B29-C29 -> 0.0695 | E29: 0.22 | F29: 0.1305 | G29: =E29-F29 -> 0.0895 | H29: 0.22 | I29: 0.1305 | J29: =H29-I29 -> 0.0895 | K29: 0.15 | L29: 0.1305 | M29: =K29-L29 -> 0.0195 | N29: 0.21 | O29: 0.1305 | P29: =N29-O29 -> 0.0795 | Q29: 0.21 | R29: 0.1305 | S29: =Q29-R29 -> 0.0795 | T29: 0.17 | U29: 0.1305 | V29: =T29-U29 -> 0.0395 | W29: 0.19 | X29: 0.1305 | Y29: =W29-X29 -> 0.0595 | Z29: 0.21 | AA29: 0.1305 | AB29: =Z29-AA29 -> 0.0795 | AC29: 0.18 | AD29: 0.1305 | AE29: =AC29-AD29 -> 0.0495 | AF29: =AVERAGE(D29,G29,J29,M29,P29,S29,V29,Y29,AB29,AE29) -> 0.0655 | AG29: 829.73 | AH29: =AG29/$AG$103 -> 0.0076884159 | AI29: =AF29*AH29 -> 0.00050359124 | AJ29: 1196.54 | AK29: 0.18 | AL29: 14.82
A30: India Motor Parts & Accessories Ltd | B30: 0.32 | C30: 0.1305 | D30: =B30-C30 -> 0.1895 | E30: 0.33 | F30: 0.1305 | G30: =E30-F30 -> 0.1995 | H30: 0.29 | I30: 0.1305 | J30: =H30-I30 -> 0.1595 | K30: 0.22 | L30: 0.1305 | M30: =K30-L30 -> 0.0895 | N30: 0.2 | O30: 0.1305 | P30: =N30-O30 -> 0.0695 | Q30: 0.19 | R30: 0.1305 | S30: =Q30-R30 -> 0.0595 | T30: 0.16 | U30: 0.1305 | V30: =T30-U30 -> 0.0295 | W30: 0.07 | X30: 0.1305 | Y30: =W30-X30 -> -0.0605 | Z30: 0.05 | AA30: 0.1305 | AB30: =Z30-AA30 -> -0.0805 | AC30: 0.05 | AD30: 0.1305 | AE30: =AC30-AD30 -> -0.0805 | AF30: =AVERAGE(D30,G30,J30,M30,P30,S30,V30,Y30,AB30,AE30) -> 0.0575 | AG30: 1055.78 | AH30: =AG30/$AG$103 -> 0.0097830327 | AI30: =AF30*AH30 -> 0.00056252438 | AJ30: 1155.43 | AK30: 0.01 | AL30: 12.28
A31: NRB Bearings Ltd | B31: 0.15 | C31: 0.1305 | D31: =B31-C31 -> 0.0195 | E31: 0.3 | F31: 0.1305 | G31: =E31-F31 -> 0.1695 | H31: 0.22 | I31: 0.1305 | J31: =H31-I31 -> 0.0895 | K31: 0.16 | L31: 0.1305 | M31: =K31-L31 -> 0.0295 | N31: 0.14 | O31: 0.1305 | P31: =N31-O31 -> 0.0095 | Q31: 0.17 | R31: 0.1305 | S31: =Q31-R31 -> 0.0395 | T31: 0.14 | U31: 0.1305 | V31: =T31-U31 -> 0.0095 | W31: 0.16 | X31: 0.1305 | Y31: =W31-X31 -> 0.0295 | Z31: 0.26 | AA31: 0.1305 | AB31: =Z31-AA31 -> 0.1295 | AC31: 0.23 | AD31: 0.1305 | AE31: =AC31-AD31 -> 0.0995 | AF31: =AVERAGE(D31,G31,J31,M31,P31,S31,V31,Y31,AB31,AE31) -> 0.0625 | AG31: 727.25 | AH31: =AG31/$AG$103 -> 0.0067388192 | AI31: =AF31*AH31 -> 0.0004211762 | AJ31: 932.85 | AK31: 0.6 | AL31: 6.76
A32: India Nippon Electricals Ltd | B32: 0.16 | C32: 0.1305 | D32: =B32-C32 -> 0.0295 | E32: 0.2 | F32: 0.1305 | G32: =E32-F32 -> 0.0695 | H32: 0.22 | I32: 0.1305 | J32: =H32-I32 -> 0.0895 | K32: 0.18 | L32: 0.1305 | M32: =K32-L32 -> 0.0495 | N32: 0.13 | O32: 0.1305 | P32: =N32-O32 -> -0.0005 | Q32: 0.14 | R32: 0.1305 | S32: =Q32-R32 -> 0.0095 | T32: 0.15 | U32: 0.1305 | V32: =T32-U32 -> 0.0195 | W32: 0.14 | X32: 0.1305 | Y32: =W32-X32 -> 0.0095 | Z32: 0.22 | AA32: 0.1305 | AB32: =Z32-AA32 -> 0.0895 | AC32: 0.21 | AD32: 0.1305 | AE32: =AC32-AD32 -> 0.0795 | AF32: =AVERAGE(D32,G32,J32,M32,P32,S32,V32,Y32,AB32,AE32) -> 0.0445 | AG32: 424.75 | AH32: =AG32/$AG$103 -> 0.003935804 | AI32: =AF32*AH32 -> 0.00017514328 | AJ32: 535.54 | AK32: 0 | AL32: 12.05
A33: Steel Strips Wheels Ltd | B33: 0.08 | C33: 0.1305 | D33: =B33-C33 -> -0.0505 | E33: 0.09 | F33: 0.1305 | G33: =E33-F33 -> -0.0405 | H33: 0.08 | I33: 0.1305 | J33: =H33-I33 -> -0.0505 | K33: 0.06 | L33: 0.1305 | M33: =K33-L33 -> -0.0705 | N33: 0.06 | O33: 0.1305 | P33: =N33-O33 -> -0.0705 | Q33: 0.09 | R33: 0.1305 | S33: =Q33-R33 -> -0.0405 | T33: 0.11 | U33: 0.1305 | V33: =T33-U33 -> -0.0205 | W33: 0.11 | X33: 0.1305 | Y33: =W33-X33 -> -0.0205 | Z33: 0.1 | AA33: 0.1305 | AB33: =Z33-AA33 -> -0.0305 | AC33: 0.12 | AD33: 0.1305 | AE33: =AC33-AD33 -> -0.0105 | AF33: =AVERAGE(D33,G33,J33,M33,P33,S33,V33,Y33,AB33,AE33) -> -0.0405 | AG33: 1519.1 | AH33: =AG33/$AG$103 -> 0.014076233 | AI33: =AF33*AH33 -> -0.00057008743 | AJ33: 2147.18 | AK33: 1.19 | AL33: 9.44
A34: Lumax Auto Technologies Ltd | B34: 0.36 | C34: 0.1305 | D34: =B34-C34 -> 0.2295 | E34: 0.47 | F34: 0.1305 | G34: =E34-F34 -> 0.3395 | H34: 0.37 | I34: 0.1305 | J34: =H34-I34 -> 0.2395 | K34: 0.28 | L34: 0.1305 | M34: =K34-L34 -> 0.1495 | N34: 0.18 | O34: 0.1305 | P34: =N34-O34 -> 0.0495 | Q34: 0.18 | R34: 0.1305 | S34: =Q34-R34 -> 0.0495 | T34: 0.17 | U34: 0.1305 | V34: =T34-U34 -> 0.0395 | W34: 0.17 | X34: 0.1305 | Y34: =W34-X34 -> 0.0395 | Z34: 0.2 | AA34: 0.1305 | AB34: =Z34-AA34 -> 0.0695 | AC34: 0.21 | AD34: 0.1305 | AE34: =AC34-AD34 -> 0.0795 | AF34: =AVERAGE(D34,G34,J34,M34,P34,S34,V34,Y34,AB34,AE34) -> 0.1285 | AG34: 556.93 | AH34: =AG34/$AG$103 -> 0.0051606058 | AI34: =AF34*AH34 -> 0.00066313785 | AJ34: 905.02 | AK34: 0.21 | AL34: 12.25
A35: Banco Products (India) Ltd | B35: 0.39 | C35: 0.1305 | D35: =B35-C35 -> 0.2595 | E35: 0.21 | F35: 0.1305 | G35: =E35-F35 -> 0.0795 | H35: 0.2 | I35: 0.1305 | J35: =H35-I35 -> 0.0695 | K35: 0.15 | L35: 0.1305 | M35: =K35-L35 -> 0.0195 | N35: 0.19 | O35: 0.1305 | P35: =N35-O35 -> 0.0595 | Q35: 0.12 | R35: 0.1305 | S35: =Q35-R35 -> -0.0105 | T35: 0.18 | U35: 0.1305 | V35: =T35-U35 -> 0.0495 | W35: 0.17 | X35: 0.1305 | Y35: =W35-X35 -> 0.0395 | Z35: 0.21 | AA35: 0.1305 | AB35: =Z35-AA35 -> 0.0795 | AC35: 0.17 | AD35: 0.1305 | AE35: =AC35-AD35 -> 0.0395 | AF35: =AVERAGE(D35,G35,J35,M35,P35,S35,V35,Y35,AB35,AE35) -> 0.0685 | AG35: 929.61 | AH35: =AG35/$AG$103 -> 0.0086139206 | AI35: =AF35*AH35 -> 0.00059005356 | AJ35: 1326.43 | AK35: 0.09 | AL35: -3.34
A36: GNA Axles Ltd | B36: NA | C36: 0.1305 | D36: NA | E36: NA | F36: 0.1305 | G36: NA | H36: 0.27 | I36: 0.1305 | J36: =H36-I36 -> 0.1395 | K36: 0.17 | L36: 0.1305 | M36: =K36-L36 -> 0.0395 | N36: 0.16 | O36: 0.1305 | P36: =N36-O36 -> 0.0295 | Q36: 0.15 | R36: 0.1305 | S36: =Q36-R36 -> 0.0195 | T36: 0.2 | U36: 0.1305 | V36: =T36-U36 -> 0.0695 | W36: 0.17 | X36: 0.1305 | Y36: =W36-X36 -> 0.0395 | Z36: 0.18 | AA36: 0.1305 | AB36: =Z36-AA36 -> 0.0495 | AC36: 0.21 | AD36: 0.1305 | AE36: =AC36-AD36 -> 0.0795 | AF36: =AVERAGE(D36,G36,J36,M36,P36,S36,V36,Y36,AB36,AE36) -> 0.05825 | AG36: 609.48 | AH36: =AG36/$AG$103 -> 0.0056475428 | AI36: =AF36*AH36 -> 0.00032896937 | AJ36: 820.83 | AK36: 0.36 | AL36: NA
A37: Pricol Ltd | B37: NA | C37: 0.1305 | D37: NA | E37: NA | F37: 0.1305 | G37: NA | H37: NA | I37: 0.1305 | J37: NA | K37: NA | L37: 0.1305 | M37: NA | N37: NA | O37: 0.1305 | P37: NA | Q37: NA | R37: 0.1305 | S37: NA | T37: 0.04 | U37: 0.1305 | V37: =T37-U37 -> -0.0905 | W37: 0.14 | X37: 0.1305 | Y37: =W37-X37 -> 0.0095 | Z37: -0.01 | AA37: 0.1305 | AB37: =Z37-AA37 -> -0.1405 | AC37: -0.16 | AD37: 0.1305 | AE37: =AC37-AD37 -> -0.2905 | AF37: =AVERAGE(D37,G37,J37,M37,P37,S37,V37,Y37,AB37,AE37) -> -0.128 | AG37: 778.44 | AH37: =AG37/$AG$103 -> 0.0072131542 | AI37: =AF37*AH37 -> -0.00092328374 | AJ37: 1597.99 | AK37: 0.56 | AL37: NA
